Back to the "Multiple platform build/check report"
| Package 96/214 | Hostname | OS | Arch | BUILD | CHECK | BUILD BIN | 
| hopach1.10.0Katherine S. PollardLast Changed Date: 2007-04-24 11:21:48 -0700 Last Changed Rev: 24214 | lamb1 | Linux (SUSE 10.1) | x86_64 | OK | OK | |
| wellington | Linux (SUSE 9.2) | i686 | OK | OK | ||
| churchill | Solaris 2.9 | sparc | OK | OK | ||
| lemming | Windows Server 2003 (32-bit) | x64 | OK | OK | OK | |
| liverpool | Windows Server 2003 R2 (32-bit) | x64 | [ OK ] | OK | OK | |
| derby | Mac OS X (10.4.9) | i686 | OK | OK | 
| Package: hopach | 
| Version: 1.10.0 | 
| Command: E:\biocbld\bbs-2.0-bioc\R\bin\R.exe CMD build hopach | 
| RetCode: 0 | 
| Time: 39.9 seconds | 
| Status: OK | 
| PackageFile: hopach_1.10.0.tar.gz | 
* checking for file 'hopach/DESCRIPTION' ... OK
* preparing 'hopach':
* checking DESCRIPTION meta-information ... OK
* checking whether 'INDEX' is up-to-date ... NO
* use '--force' to overwrite the existing 'INDEX'
* installing the package to re-build vignettes
installing R.css in E:/biocbld/bbs-2.0-bioc/tmpdir/Rinst586018075
---------- Making package hopach ------------
  adding build stamp to DESCRIPTION
  installing R files
  installing inst files
  installing data files
  installing man source files
  installing indices
  not zipping data
  installing help
 >>> Building/Updating help pages for package 'hopach'
     Formats: text html latex example chm 
  boot2fuzzy                        text    html    latex   example chm
  bootplot                          text    html    latex   example chm
  bootstrap                         text    html    latex   example chm
  correlationordering               text    html    latex   example chm
  disscosangle                      text    html    latex   example chm
  distancematrix                    text    html    latex   example chm
  dplot                             text    html    latex   example chm
  golub                             text    html    latex           chm
  hopach                            text    html    latex   example chm
  hopach.internal                   text    html    latex   example chm
  hopach2tree                       text    html    latex   example chm
  labelstomss                       text    html    latex   example chm
  makeoutput                        text    html    latex   example chm
  prune                             text    html    latex   example chm
Microsoft HTML Help Compiler 4.74.8702
Compiling e:\biocbld\bbs-2.0-bioc\meat\hopach\chm\hopach.chm
Compile time: 0 minutes, 1 second
15	Topics
69	Local links
22	Internet links
1	Graphic
Created e:\biocbld\bbs-2.0-bioc\meat\hopach\chm\hopach.chm, 61,049 bytes
Compression decreased file by 52,164 bytes.
  preparing package hopach for lazy loading
Loading required package: cluster
Loading required package: Biobase
Loading required package: tools
Welcome to Bioconductor
  Vignettes contain introductory material. To view, type
  'openVignette()'. To cite Bioconductor, see
  'citation("Biobase")' and for packages 'citation(pkgname)'.
  adding MD5 sums
* DONE (hopach)
* creating vignettes ... OK
* removing junk files
* checking for LF line-endings in source files
* checking for empty or unneeded directories
* building 'hopach_1.10.0.tar.gz'