Back to the "Multiple platform build/check report"
| Package 89/214 | Hostname | OS | Arch | BUILD | CHECK | BUILD BIN | 
| gpls1.8.0Biocore TeamLast Changed Date: 2007-04-24 11:21:48 -0700 Last Changed Rev: 24214 | lamb1 | Linux (SUSE 10.1) | x86_64 | OK | OK | |
| wellington | Linux (SUSE 9.2) | i686 | OK | OK | ||
| churchill | Solaris 2.9 | sparc | OK | OK | ||
| lemming | Windows Server 2003 (32-bit) | x64 | OK | OK | OK | |
| liverpool | Windows Server 2003 R2 (32-bit) | x64 | OK | OK | OK | |
| derby | Mac OS X (10.4.9) | i686 | [ OK ] | OK | 
| Package: gpls | 
| Version: 1.8.0 | 
| Command: /Library/Frameworks/R.framework/Resources/bin/R CMD build gpls | 
| RetCode: 0 | 
| Time: 24.6 seconds | 
| Status: OK | 
| PackageFile: gpls_1.8.0.tar.gz | 
* checking for file 'gpls/DESCRIPTION' ... OK
* preparing 'gpls':
* checking DESCRIPTION meta-information ... OK
* checking whether 'INDEX' is up-to-date ... NO
* use '--force' to overwrite the existing 'INDEX'
* installing the package to re-build vignettes
* Installing *source* package 'gpls' ...
** R
** inst
** help
 >>> Building/Updating help pages for package 'gpls'
     Formats: text html latex example 
  glpls1a                           text    html    latex   example
  glpls1a.cv.error                  text    html    latex   example
  glpls1a.logit.all                 text    html    latex   example
  glpls1a.mlogit                    text    html    latex   example
  glpls1a.mlogit.cv.error           text    html    latex   example
  glpls1a.train.test.error          text    html    latex   example
  gpls                              text    html    latex   example
  predict.gpls                      text    html    latex   example
** building package indices ...
* DONE (gpls)
* creating vignettes ... OK
* removing junk files
* checking for LF line-endings in source files
* checking for empty or unneeded directories
* building 'gpls_1.8.0.tar.gz'