Back to the "Multiple platform build/check report"
| Package 75/214 | Hostname | OS | Arch | BUILD | CHECK | BUILD BIN |
geneRecommender1.8.0Greg HatherLast Changed Date: 2007-04-24 11:21:48 -0700 Last Changed Rev: 24214 | lamb1 | Linux (SUSE 10.1) | x86_64 | OK | OK | |
| wellington | Linux (SUSE 9.2) | i686 | OK | OK | ||
| churchill | Solaris 2.9 | sparc | OK | OK | ||
| lemming | Windows Server 2003 (32-bit) | x64 | OK | OK | [ OK ] | |
| liverpool | Windows Server 2003 R2 (32-bit) | x64 | OK | OK | OK | |
| derby | Mac OS X (10.4.9) | i686 | OK | OK |
| Package: geneRecommender |
| Version: 1.8.0 |
| Command: D:\biocbld\bbs-2.0-bioc\R\bin\R.exe CMD INSTALL --build --library=geneRecommender.BUILDBINinstdir geneRecommender_1.8.0.tar.gz |
| RetCode: 0 |
| Time: 7.0 seconds |
| Status: OK |
| PackageFile: geneRecommender_1.8.0.zip |
installing R.css in D:/biocbld/bbs-2.0-bioc/meat/geneRecommender.BUILDBINinstdir
Using auto-selected zip options ''
---------- Making package geneRecommender ------------
adding build stamp to DESCRIPTION
installing R files
installing inst files
installing man source files
installing indices
installing help
>>> Building/Updating help pages for package 'geneRecommender'
Formats: text html latex example chm
gr.cv text html latex example chm
gr.main text html latex example chm
gr.normalize text html latex example chm
Microsoft HTML Help Compiler 4.74.8702
Compiling d:\biocbld\bbs-2.0-bioc\meat\R.INSTALL.10000\geneRecommender\chm\geneRecommender.chm
Compile time: 0 minutes, 0 seconds
4 Topics
6 Local links
0 Internet links
1 Graphic
Created d:\biocbld\bbs-2.0-bioc\meat\R.INSTALL.10000\geneRecommender\chm\geneRecommender.chm, 22,010 bytes
Compression increased file by 3,873 bytes.
adding MD5 sums
packaged installation of package 'geneRecommender' as geneRecommender_1.8.0.zip
* DONE (geneRecommender)