Back to the "Multiple platform build/check report"
| Package 66/214 | Hostname | OS | Arch | BUILD | CHECK | BUILD BIN | 
| flowCore1.0.0Nolwenn Le MeurLast Changed Date: 2007-04-24 11:21:48 -0700 Last Changed Rev: 24214 | lamb1 | Linux (SUSE 10.1) | x86_64 | OK | OK | |
| wellington | Linux (SUSE 9.2) | i686 | OK | OK | ||
| churchill | Solaris 2.9 | sparc | OK | OK | ||
| lemming | Windows Server 2003 (32-bit) | x64 | OK | OK | OK | |
| liverpool | Windows Server 2003 R2 (32-bit) | x64 | OK | OK | OK | |
| derby | Mac OS X (10.4.9) | i686 | [ OK ] | OK | 
| Package: flowCore | 
| Version: 1.0.0 | 
| Command: /Library/Frameworks/R.framework/Resources/bin/R CMD build flowCore | 
| RetCode: 0 | 
| Time: 60.5 seconds | 
| Status: OK | 
| PackageFile: flowCore_1.0.0.tar.gz | 
* checking for file 'flowCore/DESCRIPTION' ... OK
* preparing 'flowCore':
* checking DESCRIPTION meta-information ... OK
* cleaning src
* installing the package to re-build vignettes
* Installing *source* package 'flowCore' ...
** libs
** arch - i386
gcc-4.0 -arch i386 -isysroot /Developer/SDKs/MacOSX10.4u.sdk -no-cpp-precomp -I/Library/Frameworks/R.framework/Resources/include -I/Library/Frameworks/R.framework/Resources/include/i386  -msse3  -D__NO_MATH_INLINES  -fPIC  -g -O2 -std=gnu99 -march=nocona -c biexponential.c -o biexponential.o
gcc-4.0 -arch i386 -isysroot /Developer/SDKs/MacOSX10.4u.sdk -no-cpp-precomp -I/Library/Frameworks/R.framework/Resources/include -I/Library/Frameworks/R.framework/Resources/include/i386  -msse3  -D__NO_MATH_INLINES  -fPIC  -g -O2 -std=gnu99 -march=nocona -c inPolygon.c -o inPolygon.o
gcc-4.0 -arch i386 -isysroot /Developer/SDKs/MacOSX10.4u.sdk -dynamiclib -Wl,-macosx_version_min -Wl,10.3 -undefined dynamic_lookup -single_module -multiply_defined suppress -L/usr/local/lib -o flowCore.so biexponential.o inPolygon.o   -F/Library/Frameworks/R.framework/.. -framework R
** arch - ppc
gcc-4.0 -arch ppc -isysroot /Developer/SDKs/MacOSX10.4u.sdk -std=gnu99 -no-cpp-precomp -I/Library/Frameworks/R.framework/Resources/include -I/Library/Frameworks/R.framework/Resources/include/ppc  -I/usr/local/include    -fPIC  -g -O2 -c biexponential.c -o biexponential.o
gcc-4.0 -arch ppc -isysroot /Developer/SDKs/MacOSX10.4u.sdk -std=gnu99 -no-cpp-precomp -I/Library/Frameworks/R.framework/Resources/include -I/Library/Frameworks/R.framework/Resources/include/ppc  -I/usr/local/include    -fPIC  -g -O2 -c inPolygon.c -o inPolygon.o
gcc-4.0 -arch ppc -isysroot /Developer/SDKs/MacOSX10.4u.sdk -std=gnu99 -dynamiclib -Wl,-macosx_version_min -Wl,10.3 -undefined dynamic_lookup -single_module -multiply_defined suppress -L/usr/local/lib -o flowCore.so biexponential.o inPolygon.o   -F/Library/Frameworks/R.framework/.. -framework R
** R
** data
** inst
** preparing package for lazy loading
Loading required package: Biobase
Loading required package: tools
Welcome to Bioconductor
  Vignettes contain introductory material. To view, type
  'openVignette()'. To cite Bioconductor, see
  'citation("Biobase")' and for packages 'citation(pkgname)'.
Loading required package: rrcov
Scalable Robust Estimators with High Breakdown Point (version 0.3-05)
KernSmooth 2.22 installed
Copyright M. P. Wand 1997
Creating a new generic function for "colnames" in "flowCore"
Creating a new generic function for "colnames<-" in "flowCore"
Creating a new generic function for "nrow" in "flowCore"
Creating a new generic function for "ncol" in "flowCore"
** help
 >>> Building/Updating help pages for package 'flowCore'
     Formats: text html latex example 
  GvHD                              text    html    latex
  KmeansFilter                      text    html    latex   example
  Subset-methods                    text    html    latex   example
  arcsinhTransform                  text    html    latex   example
  biexponentialTransform            text    html    latex   example
  coerce                            text    html    latex   example
  compensate                        text    html    latex   example
  each_col                          text    html    latex   example
  ellipsoidGate                     text    html    latex   example
  filter-and-methods                text    html    latex
  filter-class                      text    html    latex
  filter-in-methods                 text    html    latex   example
  filter-on-methods                 text    html    latex   example
  filter                            text    html    latex   example
  filterDetails-methods             text    html    latex
  filterResult-class                text    html    latex   example
  flowFrame-class                   text    html    latex
  flowSet-class                     text    html    latex   example
  fsApply                           text    html    latex   example
  identifier                        text    html    latex   example
  keyword-methods                   text    html    latex   example
  linearTransform                   text    html    latex   example
  lnTransform                       text    html    latex   example
  logTransform                      text    html    latex   example
  logicalFilterResult-class         text    html    latex   example
  logicleTransform                  text    html    latex   example
  multiFilter-class                 text    html    latex   example
  multipleFilterResult-class        text    html    latex   example
  norm2Filter-class                 text    html    latex   example
  parameters                        text    html    latex   example
  print.filterSummary               text    html    latex   example
  quadraticTransform                text    html    latex   example
  randomFilterResult-class          text    html    latex   example
  read.FCS                          text    html    latex   example
  read.flowSet                      text    html    latex   example
  rectangleGate                     text    html    latex   example
  sampleFilter-class                text    html    latex   example
  scaleTransform                    text    html    latex   example
  setOperationFilter-class          text    html    latex   example
  spillover-flowSet                 text    html    latex
  transform-class                   text    html    latex   example
  transformFilter-class             text    html    latex   example
  transformList-class               text    html    latex   example
  transformMap-class                text    html    latex   example
  truncateTransform                 text    html    latex   example
** building package indices ...
* DONE (flowCore)
* creating vignettes ... OK
* cleaning src
* removing junk files
* checking for LF line-endings in source files
* checking for empty or unneeded directories
* building 'flowCore_1.0.0.tar.gz'