Back to the "Multiple platform build/check report"
| Package 65/214 | Hostname | OS | Arch | BUILD | CHECK | BUILD BIN | 
| fdrame1.8.0Effi KenigsbergLast Changed Date: 2007-04-24 11:21:48 -0700 Last Changed Rev: 24214 | lamb1 | Linux (SUSE 10.1) | x86_64 | OK | OK | |
| wellington | Linux (SUSE 9.2) | i686 | OK | OK | ||
| churchill | Solaris 2.9 | sparc | OK | OK | ||
| lemming | Windows Server 2003 (32-bit) | x64 | OK | OK | [ OK ] | |
| liverpool | Windows Server 2003 R2 (32-bit) | x64 | OK | OK | OK | |
| derby | Mac OS X (10.4.9) | i686 | OK | OK | 
| Package: fdrame | 
| Version: 1.8.0 | 
| Command: D:\biocbld\bbs-2.0-bioc\R\bin\R.exe CMD INSTALL --build --library=fdrame.BUILDBINinstdir fdrame_1.8.0.tar.gz | 
| RetCode: 0 | 
| Time: 10.0 seconds | 
| Status: OK | 
| PackageFile: fdrame_1.8.0.zip | 
installing R.css in D:/biocbld/bbs-2.0-bioc/meat/fdrame.BUILDBINinstdir
Using auto-selected zip options 'fdrame-ZIPDATA=zip'
---------- Making package fdrame ------------
  adding build stamp to DESCRIPTION
  making DLL ...
making fdr.d from fdr.c
gcc   -ID:/biocbld/bbs-2.0-bioc/R/include  -Wall -O3 -std=gnu99   -c fdr.c -o fdr.o
windres -I D:/biocbld/bbs-2.0-bioc/R/include  -i fdrame_res.rc -o fdrame_res.o
gcc  -shared -s  -o fdrame.dll fdrame.def fdr.o fdrame_res.o  -LD:/biocbld/bbs-2.0-bioc/R/bin    -lR
  ... DLL made
  installing DLL
  installing R files
  installing inst files
  installing data files
  installing man source files
  installing indices
  zipping data
  installing help
 >>> Building/Updating help pages for package 'fdrame'
     Formats: text html latex example chm 
  design                            text    html    latex   example chm
  exp.arr                           text    html    latex   example chm
  fdr-internal                      text    html    latex           chm
  fdrgui                            text    html    latex   example chm
  fdrma                             text    html    latex   example chm
Microsoft HTML Help Compiler 4.74.8702
Compiling d:\biocbld\bbs-2.0-bioc\meat\R.INSTALL.4820\fdrame\chm\fdrame.chm
Compile time: 0 minutes, 0 seconds
6	Topics
9	Local links
0	Internet links
1	Graphic
Created d:\biocbld\bbs-2.0-bioc\meat\R.INSTALL.4820\fdrame\chm\fdrame.chm, 21,549 bytes
Compression decreased file by 329 bytes.
  preparing package fdrame for lazy loading
  adding MD5 sums
packaged installation of package 'fdrame' as fdrame_1.8.0.zip
* DONE (fdrame)