Back to the "Multiple platform build/check report"
| Package 62/214 | Hostname | OS | Arch | BUILD | CHECK | BUILD BIN |
exonmap1.0.0Michal OkoniewskiLast Changed Date: 2007-04-24 11:21:48 -0700 Last Changed Rev: 24214 | lamb1 | Linux (SUSE 10.1) | x86_64 | OK | OK | |
| wellington | Linux (SUSE 9.2) | i686 | OK | OK | ||
| churchill | Solaris 2.9 | sparc | OK | ERROR | ||
| lemming | Windows Server 2003 (32-bit) | x64 | OK | ERROR | ERROR | |
| liverpool | Windows Server 2003 R2 (32-bit) | x64 | OK | ERROR | [ ERROR ] | |
| derby | Mac OS X (10.4.9) | i686 | OK | ERROR |
| Package: exonmap |
| Version: 1.0.0 |
| Command: E:\biocbld\bbs-2.0-bioc\R\bin\R.exe CMD INSTALL --build --library=exonmap.BUILDBINinstdir exonmap_1.0.0.tar.gz |
| RetCode: 1 |
| Time: 21.0 seconds |
| Status: ERROR |
| PackageFile: None |
installing R.css in E:/biocbld/bbs-2.0-bioc/meat/exonmap.BUILDBINinstdir
Using auto-selected zip options ' exonmap-HELP=ziponly'
---------- Making package exonmap ------------
adding build stamp to DESCRIPTION
installing R files
installing inst files
installing data files
installing man source files
installing indices
not zipping data
installing help
>>> Building/Updating help pages for package 'exonmap'
Formats: text html latex example chm
PC-class text html latex example chm
Splanova-class text html latex example chm
X.toY text html latex example chm
array.subset text html latex example chm
gene.details text html latex example chm
gene.legend text html latex example chm
gene.strip text html latex example chm
gene.to.exon.probeset text html latex example chm
group.indices text html latex example chm
pc text html latex example chm
plot.gene text html latex example chm
plot.gene.graph text html latex example chm
probeset.stats text html latex example chm
probesets.in.range text html latex example chm
read.exon text html latex example chm
select.probewise text html latex example chm
splanova text html latex example chm
splicing.index text html latex example chm
x.rma text html latex chm
xmapDatabase text html latex example chm
xmapGene text html latex example chm
zipping help files
Microsoft HTML Help Compiler 4.74.8702
Compiling e:\biocbld\bbs-2.0-bioc\meat\R.INSTALL.1624\exonmap\chm\exonmap.chm
Compile time: 0 minutes, 0 seconds
22 Topics
97 Local links
18 Internet links
1 Graphic
Created e:\biocbld\bbs-2.0-bioc\meat\R.INSTALL.1624\exonmap\chm\exonmap.chm, 43,672 bytes
Compression decreased file by 45,222 bytes.
preparing package exonmap for lazy loading
Loading required package: affy
Loading required package: Biobase
Loading required package: tools
Welcome to Bioconductor
Vignettes contain introductory material. To view, type
'openVignette()'. To cite Bioconductor, see
'citation("Biobase")' and for packages 'citation(pkgname)'.
Loading required package: affyio
Loading required package: simpleaffy
Loading required package: genefilter
Loading required package: survival
Loading required package: splines
Loading required package: RColorBrewer
Error: package 'RMySQL' required by 'exonmap' could not be found
Execution halted
make: *** [lazyload] Error 1
*** Installation of exonmap failed ***
Removing 'E:/biocbld/bbs-2.0-bioc/meat/exonmap.BUILDBINinstdir/exonmap'