Back to the "Multiple platform build/check report"
| Package 53/214 | Hostname | OS | Arch | BUILD | CHECK | BUILD BIN |
daMA1.8.0Jobst LandgrebeLast Changed Date: 2007-04-24 11:21:48 -0700 Last Changed Rev: 24214 | lamb1 | Linux (SUSE 10.1) | x86_64 | OK | OK | |
| wellington | Linux (SUSE 9.2) | i686 | OK | OK | ||
| churchill | Solaris 2.9 | sparc | OK | OK | ||
| lemming | Windows Server 2003 (32-bit) | x64 | OK | OK | OK | |
| liverpool | Windows Server 2003 R2 (32-bit) | x64 | OK | OK | [ OK ] | |
| derby | Mac OS X (10.4.9) | i686 | OK | OK |
| Package: daMA |
| Version: 1.8.0 |
| Command: E:\biocbld\bbs-2.0-bioc\R\bin\R.exe CMD INSTALL --build --library=daMA.BUILDBINinstdir daMA_1.8.0.tar.gz |
| RetCode: 0 |
| Time: 17.0 seconds |
| Status: OK |
| PackageFile: daMA_1.8.0.zip |
installing R.css in E:/biocbld/bbs-2.0-bioc/meat/daMA.BUILDBINinstdir
Using auto-selected zip options 'daMA-ZIPDATA=zip'
---------- Making package daMA ------------
adding build stamp to DESCRIPTION
installing R files
installing data files
installing man source files
installing indices
zipping data
installing help
>>> Building/Updating help pages for package 'daMA'
Formats: text html latex example chm
analyseMA text html latex example chm
cinfo text html latex example chm
cinfoB.AB text html latex example chm
cmat text html latex example chm
cmatB.AB text html latex example chm
core text html latex example chm
data.3x2 text html latex example chm
designMA text html latex example chm
designs.basic text html latex chm
designs.composite text html latex example chm
id.3x2 text html latex example chm
Microsoft HTML Help Compiler 4.74.8702
Compiling e:\biocbld\bbs-2.0-bioc\meat\R.INSTALL.3584\daMA\chm\daMA.chm
Compile time: 0 minutes, 0 seconds
12 Topics
22 Local links
6 Internet links
1 Graphic
Created e:\biocbld\bbs-2.0-bioc\meat\R.INSTALL.3584\daMA\chm\daMA.chm, 28,647 bytes
Compression decreased file by 8,572 bytes.
adding MD5 sums
packaged installation of package 'daMA' as daMA_1.8.0.zip
* DONE (daMA)