Back to the "Multiple platform build/check report"
| Package 42/214 | Hostname | OS | Arch | BUILD | CHECK | BUILD BIN |
cghMCR1.6.0J. ZhangLast Changed Date: 2007-04-24 11:21:48 -0700 Last Changed Rev: 24214 | lamb1 | Linux (SUSE 10.1) | x86_64 | OK | OK | |
| wellington | Linux (SUSE 9.2) | i686 | [ OK ] | OK | ||
| churchill | Solaris 2.9 | sparc | OK | OK | ||
| lemming | Windows Server 2003 (32-bit) | x64 | OK | OK | OK | |
| liverpool | Windows Server 2003 R2 (32-bit) | x64 | OK | OK | OK | |
| derby | Mac OS X (10.4.9) | i686 | OK | OK |
| Package: cghMCR |
| Version: 1.6.0 |
| Command: /loc/biocbuild/bbs-2.0-bioc/R/bin/R CMD build cghMCR |
| RetCode: 0 |
| Time: 59.6 seconds |
| Status: OK |
| PackageFile: cghMCR_1.6.0.tar.gz |
* checking for file 'cghMCR/DESCRIPTION' ... OK
* preparing 'cghMCR':
* checking DESCRIPTION meta-information ... OK
* installing the package to re-build vignettes
* Installing *source* package 'cghMCR' ...
** R
** data
** inst
** save image
Loading required package: DNAcopy
Loading required package: marray
Loading required package: limma
Loading required package: tkWidgets
Loading required package: widgetTools
Loading required package: tcltk
Loading Tcl/Tk interface ... done
Loading required package: DynDoc
Loading required package: arrayQuality
Loading required package: convert
Loading required package: Biobase
Loading required package: tools
Welcome to Bioconductor
Vignettes contain introductory material. To view, type
'openVignette()'. To cite Bioconductor, see
'citation("Biobase")' and for packages 'citation(pkgname)'.
Loading required package: hexbin
Loading required package: grid
Loading required package: lattice
Loading required package: gridBase
Loading required package: RColorBrewer
Creating a new generic function for "print" in "cghMCR"
** help
>>> Building/Updating help pages for package 'cghMCR'
Formats: text html latex example
cghMCR-class text html latex example
cghMCR text html latex example
mergeMCRProbes text html latex example
plot.DNAcopy text html latex example
** building package indices ...
* DONE (cghMCR)
* creating vignettes ... OK
* removing junk files
* checking for LF line-endings in source files
* checking for empty or unneeded directories
* building 'cghMCR_1.6.0.tar.gz'