Back to the "Multiple platform build/check report"
| Package 41/214 | Hostname | OS | Arch | BUILD | CHECK | BUILD BIN |
cellHTS1.6.0Ligia BrasLast Changed Date: 2007-04-24 11:21:48 -0700 Last Changed Rev: 24214 | lamb1 | Linux (SUSE 10.1) | x86_64 | OK | OK | |
| wellington | Linux (SUSE 9.2) | i686 | ERROR | skipped | ||
| churchill | Solaris 2.9 | sparc | OK | OK | ||
| lemming | Windows Server 2003 (32-bit) | x64 | OK | [ OK ] | OK | |
| liverpool | Windows Server 2003 R2 (32-bit) | x64 | OK | OK | OK | |
| derby | Mac OS X (10.4.9) | i686 | OK | OK |
| Package: cellHTS |
| Version: 1.6.0 |
| Command: D:\biocbld\bbs-2.0-bioc\R\bin\R.exe CMD check cellHTS_1.6.0.tar.gz |
| RetCode: 0 |
| Time: 178.4 seconds |
| Status: OK |
| CheckDir: cellHTS.Rcheck |
| Warnings: 0 |
* checking for working latex ... OK * using log directory 'D:/biocbld/bbs-2.0-bioc/meat/cellHTS.Rcheck' * using R version 2.5.0 (2007-04-23) * checking for file 'cellHTS/DESCRIPTION' ... OK * this is package 'cellHTS' version '1.6.0' * checking package dependencies ... OK * checking if this is a source package ... OK * checking whether package 'cellHTS' can be installed ... OK * checking package directory ... OK * checking for portable file names ... OK * checking DESCRIPTION meta-information ... OK * checking top-level files ... OK * checking index information ... OK * checking package subdirectories ... OK * checking R files for non-ASCII characters ... OK * checking R files for syntax errors ... OK * checking whether the package can be loaded ... OK * checking whether the package can be loaded with stated dependencies ... OK * checking whether the name space can be loaded with stated dependencies ... OK * checking for unstated dependencies in R code ... OK * checking S3 generic/method consistency ... OK * checking replacement functions ... OK * checking foreign function calls ... OK * checking R code for possible problems ... OK * checking Rd files ... OK * checking Rd cross-references ... OK * checking for missing documentation entries ... OK * checking for code/documentation mismatches ... OK * checking Rd \usage sections ... OK * checking data for non-ASCII characters ... OK * creating cellHTS-Ex.R ... OK * checking examples ... OK * checking package vignettes in 'inst/doc' ... OK * creating cellHTS-manual.tex ... OK * checking cellHTS-manual.tex ... OK
cellHTS.Rcheck/00install.out:
installing R.css in D:/biocbld/bbs-2.0-bioc/meat/cellHTS.Rcheck
---------- Making package cellHTS ------------
adding build stamp to DESCRIPTION
installing NAMESPACE file and metadata
installing R files
installing inst files
installing data files
installing man source files
installing indices
not zipping data
installing help
>>> Building/Updating help pages for package 'cellHTS'
Formats: text html latex example chm
Bscore text html latex example chm
ROC text html latex example chm
annotate text html latex example chm
bdgpbiomart text html latex example chm
configure text html latex example chm
data-KcViab text html latex example chm
data-KcViabSmall text html latex example chm
getLibraryPlate text html latex example chm
getMatrix text html latex example chm
imageScreen text html latex example chm
normalizeChannels text html latex example chm
normalizePlates text html latex example chm
oneRowPerId text html latex example chm
plotPlateLibrary text html latex example chm
plotSpatialEffects text html latex example chm
print.cellHTS text html latex example chm
readPlateData text html latex example chm
screenMatch text html latex example chm
summarizeReplicates text html latex example chm
write.tabdel text html latex example chm
writeReport text html latex example chm
writeTab text html latex example chm
Microsoft HTML Help Compiler 4.74.8702
Compiling d:\biocbld\bbs-2.0-bioc\meat\cellHTS.Rcheck\00_pkg_src\cellHTS\chm\cellHTS.chm
Compile time: 0 minutes, 0 seconds
23 Topics
67 Local links
0 Internet links
1 Graphic
Created d:\biocbld\bbs-2.0-bioc\meat\cellHTS.Rcheck\00_pkg_src\cellHTS\chm\cellHTS.chm, 57,648 bytes
Compression decreased file by 54,648 bytes.
preparing package cellHTS for lazy loading
Loading required package: prada
Loading required package: Biobase
Loading required package: tools
Welcome to Bioconductor
Vignettes contain introductory material. To view, type
'openVignette()'. To cite Bioconductor, see
'citation("Biobase")' and for packages 'citation(pkgname)'.
Loading required package: RColorBrewer
Loading required package: grid
KernSmooth 2.22 installed
Copyright M. P. Wand 1997
Loading required package: genefilter
Loading required package: survival
Loading required package: splines
adding MD5 sums
* DONE (cellHTS)