Back to the "Multiple platform build/check report"
| Package 27/214 | Hostname | OS | Arch | BUILD | CHECK | BUILD BIN |
bgx1.0.1Ernest TurroLast Changed Date: 2007-04-25 06:34:10 -0700 Last Changed Rev: 24257 | lamb1 | Linux (SUSE 10.1) | x86_64 | OK | [ OK ] | |
| wellington | Linux (SUSE 9.2) | i686 | OK | ERROR | ||
| churchill | Solaris 2.9 | sparc | ERROR | skipped | ||
| lemming | Windows Server 2003 (32-bit) | x64 | N O T S U P P O R T E D | |||
| liverpool | Windows Server 2003 R2 (32-bit) | x64 | N O T S U P P O R T E D | |||
| derby | Mac OS X (10.4.9) | i686 | OK | ERROR | ||
| Package: bgx |
| Version: 1.0.1 |
| Command: /home/biocbuild/bbs-2.0-bioc/R/bin/R CMD check bgx_1.0.1.tar.gz |
| RetCode: 0 |
| Time: 156.9 seconds |
| Status: OK |
| CheckDir: bgx.Rcheck |
| Warnings: 0 |
* checking for working latex ... OK * using log directory '/home/biocbuild/bbs-2.0-bioc/meat/bgx.Rcheck' * using R version 2.5.0 (2007-04-23) * checking for file 'bgx/DESCRIPTION' ... OK * this is package 'bgx' version '1.0.1' * checking package dependencies ... OK * checking if this is a source package ... OK * checking whether package 'bgx' can be installed ... OK * checking package directory ... OK * checking for portable file names ... OK * checking for sufficient/correct file permissions ... OK * checking DESCRIPTION meta-information ... OK * checking top-level files ... OK * checking index information ... OK * checking package subdirectories ... OK * checking R files for non-ASCII characters ... OK * checking R files for syntax errors ... OK * checking whether the package can be loaded ... OK * checking whether the package can be loaded with stated dependencies ... OK * checking whether the name space can be loaded with stated dependencies ... OK * checking for unstated dependencies in R code ... OK * checking S3 generic/method consistency ... OK * checking replacement functions ... OK * checking foreign function calls ... OK * checking R code for possible problems ... OK * checking Rd files ... OK * checking Rd cross-references ... OK * checking for missing documentation entries ... OK * checking for code/documentation mismatches ... OK * checking Rd \usage sections ... OK * checking for CRLF line endings in C/C++/Fortran sources/headers ... OK * checking for portable compilation flags in Makevars ... OK * checking for portable use of $BLAS_LIBS ... OK * creating bgx-Ex.R ... OK * checking examples ... OK * checking package vignettes in 'inst/doc' ... OK * creating bgx-manual.tex ... OK * checking bgx-manual.tex ... OK
bgx.Rcheck/00install.out:
* Installing *source* package 'bgx' ...
checking for gcc... gcc -std=gnu99
checking for C compiler default output file name... a.out
checking whether the C compiler works... yes
checking whether we are cross compiling... no
checking for suffix of executables...
checking for suffix of object files... o
checking whether we are using the GNU C compiler... yes
checking whether gcc -std=gnu99 accepts -g... yes
checking for gcc -std=gnu99 option to accept ISO C89... none needed
checking for C compiler vendor... gnu
checking build system type... x86_64-unknown-linux-gnu
checking host system type... x86_64-unknown-linux-gnu
checking whether C compiler accepts -fstrict-aliasing... yes
checking whether C compiler accepts -ffast-math... yes
checking for gcc architecture flag...
checking for x86 cpuid 0 output... a:756e6547:6c65746e:49656e69
checking for x86 cpuid 1 output... 6f6:20800:4e3bd:bfebfbff
checking whether C compiler accepts -march=pentiumpro... no
checking whether C compiler accepts -mcpu=pentiumpro... no
checking whether C compiler accepts -mpentiumpro... yes
checking for gcc architecture flag... -mpentiumpro
checking whether C compiler accepts -O3 -fomit-frame-pointer -fstrict-aliasing -ffast-math -mpentiumpro... yes
checking for gcc -std=gnu99 option to accept ISO C99... none needed
checking for main in -lm... yes
checking whether we are using the GNU C++ compiler... yes
checking whether g++ accepts -g... yes
checking build system type... (cached) x86_64-unknown-linux-gnu
checking for boostlib >= 1.31.0... yes
checking whether the Boost::Filesystem library is available... yes
checking for main in -lboost_filesystem... yes
checking whether the Boost::Program_Options library is available... yes
checking for main in -lboost_program_options... yes
checking whether the Boost::Thread library is available... yes
checking for main in -lboost_thread... no
checking for main in -lboost_thread-gcc... no
checking for main in -l-std=gnu99... no
checking for main in -lboost_thread-gcc... (cached) no
checking for main in -l-std=gnu99-mt... no
checking for main in -lboost_thread-gcc... (cached) no
checking for main in -l-std=gnu99-mt-s... no
checking for main in -lboost_thread-gcc... (cached) no
checking for main in -l-std=gnu99-s... no
checking for main in -llibboost_thread... no
checking for main in -llibboost_thread-gcc... no
checking for main in -l-std=gnu99... (cached) no
checking for main in -llibboost_thread-gcc... (cached) no
checking for main in -l-std=gnu99-mt... (cached) no
checking for main in -llibboost_thread-gcc... (cached) no
checking for main in -l-std=gnu99-mt-s... (cached) no
checking for main in -llibboost_thread-gcc... (cached) no
checking for main in -l-std=gnu99-s... (cached) no
checking for main in -lboost_thread-mgw... no
checking for main in -lboost_thread-mgw... (cached) no
checking for main in -lboost_thread-mgw-mt... no
checking for main in -lboost_thread-mgw-mt-s... no
checking for main in -lboost_thread-mgw-s... no
configure: Could not link against boost_thread-mgw-s !
checking whether the Boost::IOStreams library is available... yes
checking for main in -lboost_iostreams... yes
checking whether the Boost::Serialization library is available... yes
checking for main in -lboost_serialization... yes
checking for main in -lboost_wserialization... yes
checking whether the Boost::Signals library is available... yes
checking for main in -lboost_signals... yes
checking whether the Boost::Date_Time library is available... yes
checking for main in -lboost_date_time... yes
checking whether the Boost::Regex library is available... yes
checking for main in -lboost_regex... yes
checking whether the Boost::UnitTestFramework library is available... yes
checking the name of the Boost::UnitTestFramework library...
checking for an ANSI C-conforming const... yes
checking for inline... inline
configure: creating ./config.status
config.status: creating src/Makevars
** libs
g++ -I/home/biocbuild/bbs-2.0-bioc/R/include -I/home/biocbuild/bbs-2.0-bioc/R/include -I/usr/include -I/usr/local/include -fpic -g -O2 -Wall -O3 -fomit-frame-pointer -fstrict-aliasing -ffast-math -mpentiumpro -DUSING_R -c bgx.cc -o bgx.o
g++ -I/home/biocbuild/bbs-2.0-bioc/R/include -I/home/biocbuild/bbs-2.0-bioc/R/include -I/usr/include -I/usr/local/include -fpic -g -O2 -Wall -O3 -fomit-frame-pointer -fstrict-aliasing -ffast-math -mpentiumpro -DUSING_R -c bgx_frontend.cc -o bgx_frontend.o
gcc -std=gnu99 -I/home/biocbuild/bbs-2.0-bioc/R/include -I/home/biocbuild/bbs-2.0-bioc/R/include -I/usr/include -I/usr/local/include -fpic -g -O2 -Wall -O3 -fomit-frame-pointer -fstrict-aliasing -ffast-math -mpentiumpro -c qnorm.c -o qnorm.o
g++ -I/home/biocbuild/bbs-2.0-bioc/R/include -I/home/biocbuild/bbs-2.0-bioc/R/include -I/usr/include -I/usr/local/include -fpic -g -O2 -Wall -O3 -fomit-frame-pointer -fstrict-aliasing -ffast-math -mpentiumpro -DUSING_R -c rundir.cc -o rundir.o
g++ -I/home/biocbuild/bbs-2.0-bioc/R/include -I/home/biocbuild/bbs-2.0-bioc/R/include -I/usr/include -I/usr/local/include -fpic -g -O2 -Wall -O3 -fomit-frame-pointer -fstrict-aliasing -ffast-math -mpentiumpro -DUSING_R -c sokal.cc -o sokal.o
g++ -shared -L/usr/local/lib64 -o bgx.so bgx.o bgx_frontend.o qnorm.o rundir.o sokal.o -lm -L/home/biocbuild/bbs-2.0-bioc/R/lib -lR
** R
** inst
** preparing package for lazy loading
Loading required package: Biobase
Loading required package: tools
Welcome to Bioconductor
Vignettes contain introductory material. To view, type
'openVignette()'. To cite Bioconductor, see
'citation("Biobase")' and for packages 'citation(pkgname)'.
Loading required package: affy
Loading required package: affyio
Loading required package: gcrma
Loading required package: matchprobes
Loading required package: splines
** help
>>> Building/Updating help pages for package 'bgx'
Formats: text html latex example
analysis.bgx text html latex example
bgx text html latex example
mcmc.bgx text html latex example
readOutput.bgx text html latex example
saveAffinityPlot.bgx text html latex example
setupVars.bgx text html latex example
** building package indices ...
* DONE (bgx)