Back to the "Multiple platform build/check report"
| Package 186/214 | Hostname | OS | Arch | BUILD | CHECK | BUILD BIN |
ScISI1.8.0Tony ChiangLast Changed Date: 2007-04-24 11:21:48 -0700 Last Changed Rev: 24214 | lamb1 | Linux (SUSE 10.1) | x86_64 | OK | OK | |
| wellington | Linux (SUSE 9.2) | i686 | OK | OK | ||
| churchill | Solaris 2.9 | sparc | OK | OK | ||
| lemming | Windows Server 2003 (32-bit) | x64 | OK | OK | OK | |
| liverpool | Windows Server 2003 R2 (32-bit) | x64 | OK | OK | OK | |
| derby | Mac OS X (10.4.9) | i686 | [ ERROR ] | skipped |
| Package: ScISI |
| Version: 1.8.0 |
| Command: /Library/Frameworks/R.framework/Resources/bin/R CMD build ScISI |
| RetCode: 1 |
| Time: 11.5 seconds |
| Status: ERROR |
| PackageFile: None |
* checking for file 'ScISI/DESCRIPTION' ... OK
* preparing 'ScISI':
* checking DESCRIPTION meta-information ... OK
* installing the package to re-build vignettes
* Installing *source* package 'ScISI' ...
** R
** data
** inst
** preparing package for lazy loading
Loading required package: apComplex
Loading required package: graph
Loading required package: RBGL
Loading required package: GO
Loading required package: GOstats
Loading required package: annotate
Loading required package: Biobase
Loading required package: tools
Welcome to Bioconductor
Vignettes contain introductory material. To view, type
'openVignette()'. To cite Bioconductor, see
'citation("Biobase")' and for packages 'citation(pkgname)'.
Loading required package: Category
Loading required package: KEGG
Loading required package: genefilter
Loading required package: survival
Loading required package: splines
Loading required package: Matrix
Loading required package: lattice
Loading required package: Rgraphviz
Warning in library(pkg, character.only = TRUE, logical = TRUE, lib.loc = lib.loc) :
there is no package called 'Rgraphviz'
Error: package 'Rgraphviz' could not be loaded
Execution halted
ERROR: lazy loading failed for package 'ScISI'
** Removing '/private/tmp/Rinst504959037/ScISI'
ERROR
Installation failed.
Removing '/tmp/Rinst504959037'