Back to the "Multiple platform build/check report"
| Package 170/214 | Hostname | OS | Arch | BUILD | CHECK | BUILD BIN |
Resourcerer1.10.0Jianhua ZhangLast Changed Date: 2007-04-24 11:21:48 -0700 Last Changed Rev: 24214 | lamb1 | Linux (SUSE 10.1) | x86_64 | OK | OK | |
| wellington | Linux (SUSE 9.2) | i686 | OK | OK | ||
| churchill | Solaris 2.9 | sparc | [ ERROR ] | skipped | ||
| lemming | Windows Server 2003 (32-bit) | x64 | OK | OK | OK | |
| liverpool | Windows Server 2003 R2 (32-bit) | x64 | OK | ERROR | OK | |
| derby | Mac OS X (10.4.9) | i686 | OK | OK |
| Package: Resourcerer |
| Version: 1.10.0 |
| Command: /loc/biocbuild/bbs-2.0-bioc/R/bin/R CMD build Resourcerer |
| RetCode: 1 |
| Time: 7.0 seconds |
| Status: ERROR |
| PackageFile: None |
* checking for file 'Resourcerer/DESCRIPTION' ... OK
* preparing 'Resourcerer':
* checking DESCRIPTION meta-information ... OK
* installing the package to re-build vignettes
* Installing *source* package 'Resourcerer' ...
** R
** inst
** preparing package for lazy loading
Loading required package: Biobase
Loading required package: tools
Welcome to Bioconductor
Vignettes contain introductory material. To view, type
'openVignette()'. To cite Bioconductor, see
'citation("Biobase")' and for packages 'citation(pkgname)'.
Error: package 'AnnBuilder' required by 'Resourcerer' could not be found
Execution halted
ERROR: lazy loading failed for package 'Resourcerer'
** Removing '/tmp/Rinst2273528451/Resourcerer'
ERROR
Installation failed.
Removing '/tmp/Rinst2273528451'