Back to the "Multiple platform build/check report"
| Package 169/214 | Hostname | OS | Arch | BUILD | CHECK | BUILD BIN | 
| RefPlus1.4.0Kai-Ming ChangLast Changed Date: 2007-04-24 11:21:48 -0700 Last Changed Rev: 24214 | lamb1 | Linux (SUSE 10.1) | x86_64 | OK | OK | |
| wellington | Linux (SUSE 9.2) | i686 | [ OK ] | OK | ||
| churchill | Solaris 2.9 | sparc | OK | OK | ||
| lemming | Windows Server 2003 (32-bit) | x64 | OK | OK | OK | |
| liverpool | Windows Server 2003 R2 (32-bit) | x64 | OK | OK | OK | |
| derby | Mac OS X (10.4.9) | i686 | OK | OK | 
| Package: RefPlus | 
| Version: 1.4.0 | 
| Command: /loc/biocbuild/bbs-2.0-bioc/R/bin/R CMD build RefPlus | 
| RetCode: 0 | 
| Time: 208.3 seconds | 
| Status: OK | 
| PackageFile: RefPlus_1.4.0.tar.gz | 
* checking for file 'RefPlus/DESCRIPTION' ... OK
* preparing 'RefPlus':
* checking DESCRIPTION meta-information ... OK
* checking whether 'INDEX' is up-to-date ... NO
* use '--force' to overwrite the existing 'INDEX'
* installing the package to re-build vignettes
* Installing *source* package 'RefPlus' ...
** R
** inst
** help
 >>> Building/Updating help pages for package 'RefPlus'
     Formats: text html latex example 
  RefPlus-package                   text    html    latex   example
  colMedians                        text    html    latex   example
  normalize.quantiles2              text    html    latex   example
  rma.para                          text    html    latex   example
  rmaplus                           text    html    latex   example
  rmaref.predict                    text    html    latex   example
** building package indices ...
* DONE (RefPlus)
* creating vignettes ... OK
* removing junk files
* checking for LF line-endings in source files
* checking for empty or unneeded directories
* building 'RefPlus_1.4.0.tar.gz'