Back to the "Multiple platform build/check report"
| Package 137/214 | Hostname | OS | Arch | BUILD | CHECK | BUILD BIN |
OLIN1.12.0Matthias FutschikLast Changed Date: 2007-04-24 11:21:48 -0700 Last Changed Rev: 24214 | lamb1 | Linux (SUSE 10.1) | x86_64 | OK | OK | |
| wellington | Linux (SUSE 9.2) | i686 | OK | OK | ||
| churchill | Solaris 2.9 | sparc | OK | OK | ||
| lemming | Windows Server 2003 (32-bit) | x64 | OK | OK | [ OK ] | |
| liverpool | Windows Server 2003 R2 (32-bit) | x64 | OK | OK | OK | |
| derby | Mac OS X (10.4.9) | i686 | OK | OK |
| Package: OLIN |
| Version: 1.12.0 |
| Command: D:\biocbld\bbs-2.0-bioc\R\bin\R.exe CMD INSTALL --build --library=OLIN.BUILDBINinstdir OLIN_1.12.0.tar.gz |
| RetCode: 0 |
| Time: 22.0 seconds |
| Status: OK |
| PackageFile: OLIN_1.12.0.zip |
installing R.css in D:/biocbld/bbs-2.0-bioc/meat/OLIN.BUILDBINinstdir
Using auto-selected zip options 'OLIN-ZIPDATA=zip OLIN-HELP=ziponly'
---------- Making package OLIN ------------
adding build stamp to DESCRIPTION
installing R files
installing inst files
installing data files
installing man source files
installing indices
zipping data
installing help
>>> Building/Updating help pages for package 'OLIN'
Formats: text html latex example chm
anovaint text html latex example chm
anovapin text html latex example chm
anovaplate text html latex example chm
anovaspatial text html latex example chm
backgroundCorrect2 text html latex example chm
bas text html latex example chm
colorbar.mxy text html latex example chm
colorbar.mxy.abs text html latex chm
colorbar.sig text html latex chm
fdr.int text html latex example chm
fdr.int2 text html latex example chm
fdr.spatial text html latex example chm
fdr.spatial2 text html latex example chm
fgbg.visu text html latex example chm
ino text html latex example chm
lin text html latex example chm
m2v text html latex example chm
ma.matrix text html latex example chm
ma.vector text html latex example chm
mxy.abs.plot text html latex example chm
mxy.plot text html latex example chm
mxy2.plot text html latex example chm
oin text html latex example chm
olin text html latex example chm
p.int text html latex example chm
p.int2 text html latex example chm
p.spatial text html latex example chm
p.spatial2 text html latex example chm
sig.mask text html latex example chm
sigint.plot text html latex example chm
sigint.plot2 text html latex example chm
sigxy.plot text html latex example chm
sigxy.plot2 text html latex example chm
sw text html latex chm
sw.olin text html latex chm
sw.xy text html latex chm
v2m text html latex example chm
zipping help files
Microsoft HTML Help Compiler 4.74.8702
Compiling d:\biocbld\bbs-2.0-bioc\meat\R.INSTALL.5368\OLIN\chm\OLIN.chm
Compile time: 0 minutes, 0 seconds
38 Topics
176 Local links
34 Internet links
1 Graphic
Created d:\biocbld\bbs-2.0-bioc\meat\R.INSTALL.5368\OLIN\chm\OLIN.chm, 70,447 bytes
Compression decreased file by 95,741 bytes.
preparing package OLIN for lazy loading
Loading required package: locfit
Loading required package: akima
Loading required package: lattice
Loading required package: Biobase
Loading required package: tools
Welcome to Bioconductor
Vignettes contain introductory material. To view, type
'openVignette()'. To cite Bioconductor, see
'citation("Biobase")' and for packages 'citation(pkgname)'.
Loading required package: marray
Loading required package: limma
Loading required package: tkWidgets
Loading required package: widgetTools
Loading required package: tcltk
Loading Tcl/Tk interface ... done
Loading required package: DynDoc
adding MD5 sums
packaged installation of package 'OLIN' as OLIN_1.12.0.zip
* DONE (OLIN)