Back to the "Multiple platform build/check report"
| Package 93/214 | Hostname | OS | Arch | BUILD | CHECK | BUILD BIN | 
| Heatplus1.6.0Alexander PlonerLast Changed Date: 2007-04-24 11:21:48 -0700 Last Changed Rev: 24214 | lamb1 | Linux (SUSE 10.1) | x86_64 | OK | OK | |
| wellington | Linux (SUSE 9.2) | i686 | [ OK ] | OK | ||
| churchill | Solaris 2.9 | sparc | OK | OK | ||
| lemming | Windows Server 2003 (32-bit) | x64 | OK | OK | OK | |
| liverpool | Windows Server 2003 R2 (32-bit) | x64 | OK | OK | OK | |
| derby | Mac OS X (10.4.9) | i686 | OK | OK | 
| Package: Heatplus | 
| Version: 1.6.0 | 
| Command: /loc/biocbuild/bbs-2.0-bioc/R/bin/R CMD build Heatplus | 
| RetCode: 0 | 
| Time: 29.3 seconds | 
| Status: OK | 
| PackageFile: Heatplus_1.6.0.tar.gz | 
* checking for file 'Heatplus/DESCRIPTION' ... OK
* preparing 'Heatplus':
* checking DESCRIPTION meta-information ... OK
* installing the package to re-build vignettes
* Installing *source* package 'Heatplus' ...
** R
** inst
** help
 >>> Building/Updating help pages for package 'Heatplus'
     Formats: text html latex example 
  RGBColVec                         text    html    latex   example
  cutplot.dendrogram                text    html    latex   example
  heatmap_2                         text    html    latex   example
  heatmap_plus                      text    html    latex   example
  picketplot                        text    html    latex   example
** building package indices ...
* DONE (Heatplus)
* creating vignettes ... OK
* removing junk files
* checking for LF line-endings in source files
* checking for empty or unneeded directories
* building 'Heatplus_1.6.0.tar.gz'