Back to the "Multiple platform build/check report"
| Package 92/214 | Hostname | OS | Arch | BUILD | CHECK | BUILD BIN |
Harshlight1.4.0Maurizio PellegrinoLast Changed Date: 2007-04-24 11:21:48 -0700 Last Changed Rev: 24214 | lamb1 | Linux (SUSE 10.1) | x86_64 | OK | WARNINGS | |
| wellington | Linux (SUSE 9.2) | i686 | OK | WARNINGS | ||
| churchill | Solaris 2.9 | sparc | OK | WARNINGS | ||
| lemming | Windows Server 2003 (32-bit) | x64 | OK | WARNINGS | OK | |
| liverpool | Windows Server 2003 R2 (32-bit) | x64 | OK | WARNINGS | OK | |
| derby | Mac OS X (10.4.9) | i686 | [ OK ] | WARNINGS |
| Package: Harshlight |
| Version: 1.4.0 |
| Command: /Library/Frameworks/R.framework/Resources/bin/R CMD build Harshlight |
| RetCode: 0 |
| Time: 25.3 seconds |
| Status: OK |
| PackageFile: Harshlight_1.4.0.tar.gz |
* checking for file 'Harshlight/DESCRIPTION' ... OK
* preparing 'Harshlight':
* checking DESCRIPTION meta-information ... OK
* cleaning src
* installing the package to re-build vignettes
* Installing *source* package 'Harshlight' ...
** libs
** arch - i386
gcc-4.0 -arch i386 -isysroot /Developer/SDKs/MacOSX10.4u.sdk -no-cpp-precomp -I/Library/Frameworks/R.framework/Resources/include -I/Library/Frameworks/R.framework/Resources/include/i386 -msse3 -D__NO_MATH_INLINES -fPIC -g -O2 -std=gnu99 -march=nocona -c Harshlight.c -o Harshlight.o
gcc-4.0 -arch i386 -isysroot /Developer/SDKs/MacOSX10.4u.sdk -dynamiclib -Wl,-macosx_version_min -Wl,10.3 -undefined dynamic_lookup -single_module -multiply_defined suppress -L/usr/local/lib -o Harshlight.so Harshlight.o -F/Library/Frameworks/R.framework/.. -framework R
** arch - ppc
gcc-4.0 -arch ppc -isysroot /Developer/SDKs/MacOSX10.4u.sdk -std=gnu99 -no-cpp-precomp -I/Library/Frameworks/R.framework/Resources/include -I/Library/Frameworks/R.framework/Resources/include/ppc -I/usr/local/include -fPIC -g -O2 -c Harshlight.c -o Harshlight.o
gcc-4.0 -arch ppc -isysroot /Developer/SDKs/MacOSX10.4u.sdk -std=gnu99 -dynamiclib -Wl,-macosx_version_min -Wl,10.3 -undefined dynamic_lookup -single_module -multiply_defined suppress -L/usr/local/lib -o Harshlight.so Harshlight.o -F/Library/Frameworks/R.framework/.. -framework R
** R
** data
** inst
** preparing package for lazy loading
Loading required package: affy
Loading required package: Biobase
Loading required package: tools
Welcome to Bioconductor
Vignettes contain introductory material. To view, type
'openVignette()'. To cite Bioconductor, see
'citation("Biobase")' and for packages 'citation(pkgname)'.
Loading required package: affyio
** help
>>> Building/Updating help pages for package 'Harshlight'
Formats: text html latex example
HarshComp text html latex
HarshExt text html latex
Harshlight text html latex example
sim text html latex
** building package indices ...
* DONE (Harshlight)
* creating vignettes ... OK
* cleaning src
* removing junk files
* checking for LF line-endings in source files
* checking for empty or unneeded directories
* building 'Harshlight_1.4.0.tar.gz'