Back to the "Multiple platform build/check report"
| Package 85/214 | Hostname | OS | Arch | BUILD | CHECK | BUILD BIN |
GlobalAncova3.2.0R. MeisterLast Changed Date: 2007-04-24 11:21:48 -0700 Last Changed Rev: 24214 | lamb1 | Linux (SUSE 10.1) | x86_64 | OK | OK | |
| wellington | Linux (SUSE 9.2) | i686 | OK | OK | ||
| churchill | Solaris 2.9 | sparc | OK | TIMEOUT | ||
| lemming | Windows Server 2003 (32-bit) | x64 | OK | OK | OK | |
| liverpool | Windows Server 2003 R2 (32-bit) | x64 | OK | OK | OK | |
| derby | Mac OS X (10.4.9) | i686 | [ OK ] | OK |
| Package: GlobalAncova |
| Version: 3.2.0 |
| Command: /Library/Frameworks/R.framework/Resources/bin/R CMD build GlobalAncova |
| RetCode: 0 |
| Time: 433.8 seconds |
| Status: OK |
| PackageFile: GlobalAncova_3.2.0.tar.gz |
* checking for file 'GlobalAncova/DESCRIPTION' ... OK
* preparing 'GlobalAncova':
* checking DESCRIPTION meta-information ... OK
* installing the package to re-build vignettes
* Installing *source* package 'GlobalAncova' ...
** R
** data
** inst
** preparing package for lazy loading
Loading required package: corpcor
Loading required package: globaltest
Loading required package: multtest
Loading required package: Biobase
Loading required package: tools
Welcome to Bioconductor
Vignettes contain introductory material. To view, type
'openVignette()'. To cite Bioconductor, see
'citation("Biobase")' and for packages 'citation(pkgname)'.
Loading required package: survival
Loading required package: splines
** help
>>> Building/Updating help pages for package 'GlobalAncova'
Formats: text html latex example
GAGO text html latex example
GlobalAncova-methods text html latex
GlobalAncova text html latex example
GlobalAncova.closed-methods text html latex
GlobalAncova.closed text html latex
GlobalAncova.decomp text html latex example
Plot.all text html latex example
Plot.genes-methods text html latex
Plot.genes text html latex example
Plot.sequential text html latex example
Plot.subjects-methods text html latex
Plot.subjects text html latex example
colon.normal text html latex example
colon.pheno text html latex example
colon.tumour text html latex example
pair.compare text html latex example
pathways text html latex example
phenodata text html latex example
vantVeer text html latex example
** building package indices ...
* DONE (GlobalAncova)
* creating vignettes ... OK
* removing junk files
* checking for LF line-endings in source files
* checking for empty or unneeded directories
* building 'GlobalAncova_3.2.0.tar.gz'