Back to the "Multiple platform build/check report"
| Package 80/214 | Hostname | OS | Arch | BUILD | CHECK | BUILD BIN |
GeneTraffic1.8.0Daniel IordanLast Changed Date: 2007-04-24 11:21:48 -0700 Last Changed Rev: 24214 | lamb1 | Linux (SUSE 10.1) | x86_64 | OK | [ OK ] | |
| wellington | Linux (SUSE 9.2) | i686 | OK | OK | ||
| churchill | Solaris 2.9 | sparc | OK | ERROR | ||
| lemming | Windows Server 2003 (32-bit) | x64 | OK | OK | OK | |
| liverpool | Windows Server 2003 R2 (32-bit) | x64 | OK | OK | OK | |
| derby | Mac OS X (10.4.9) | i686 | OK | OK |
| Package: GeneTraffic |
| Version: 1.8.0 |
| Command: /home/biocbuild/bbs-2.0-bioc/R/bin/R CMD check GeneTraffic_1.8.0.tar.gz |
| RetCode: 0 |
| Time: 34.2 seconds |
| Status: OK |
| CheckDir: GeneTraffic.Rcheck |
| Warnings: 0 |
* checking for working latex ... OK * using log directory '/home/biocbuild/bbs-2.0-bioc/meat/GeneTraffic.Rcheck' * using R version 2.5.0 (2007-04-23) * checking for file 'GeneTraffic/DESCRIPTION' ... OK * this is package 'GeneTraffic' version '1.8.0' * checking package dependencies ... OK * checking if this is a source package ... OK * checking whether package 'GeneTraffic' can be installed ... OK * checking package directory ... OK * checking for portable file names ... OK * checking for sufficient/correct file permissions ... OK * checking DESCRIPTION meta-information ... OK * checking top-level files ... OK * checking index information ... OK * checking package subdirectories ... OK * checking R files for non-ASCII characters ... OK * checking R files for syntax errors ... OK * checking whether the package can be loaded ... OK * checking whether the package can be loaded with stated dependencies ... OK * checking for unstated dependencies in R code ... OK * checking S3 generic/method consistency ... OK * checking replacement functions ... OK * checking foreign function calls ... OK * checking R code for possible problems ... OK * checking Rd files ... OK * checking Rd cross-references ... OK * checking for missing documentation entries ... OK * checking for code/documentation mismatches ... OK * checking Rd \usage sections ... OK * creating GeneTraffic-Ex.R ... OK * checking examples ... OK * creating GeneTraffic-manual.tex ... OK * checking GeneTraffic-manual.tex ... OK
GeneTraffic.Rcheck/00install.out:
* Installing *source* package 'GeneTraffic' ...
** R
** inst
** save image
Loading required package: Biobase
Loading required package: tools
Welcome to Bioconductor
Vignettes contain introductory material. To view, type
'openVignette()'. To cite Bioconductor, see
'citation("Biobase")' and for packages 'citation(pkgname)'.
Loading required package: affy
Loading required package: affyio
Loading required package: marray
Loading required package: limma
Loading required package: tkWidgets
Loading required package: widgetTools
Loading required package: tcltk
Loading Tcl/Tk interface ... done
Loading required package: DynDoc
Loading required package: SSOAP
Loading required package: XML
Loading required package: RCurl
Loading required package: digest
[1] "GTServer"
** help
>>> Building/Updating help pages for package 'GeneTraffic'
Formats: text html latex example
GTGetProjectList text html latex example
GTGetProjectSummary text html latex example
GTLoadExpression text html latex example
GTLogin text html latex example
GTLogout text html latex example
GTServer-class text html latex example
GTServer text html latex example
** building package indices ...
* DONE (GeneTraffic)