Back to the "Multiple platform build/check report"
| Package 83/214 | Hostname | OS | Arch | BUILD | CHECK | BUILD BIN |
GGtools1.4.0Vince CareyLast Changed Date: 2007-04-24 11:21:48 -0700 Last Changed Rev: 24214 | lamb1 | Linux (SUSE 10.1) | x86_64 | OK | WARNINGS | |
| wellington | Linux (SUSE 9.2) | i686 | OK | WARNINGS | ||
| churchill | Solaris 2.9 | sparc | OK | WARNINGS | ||
| lemming | Windows Server 2003 (32-bit) | x64 | OK | ERROR | OK | |
| liverpool | Windows Server 2003 R2 (32-bit) | x64 | OK | ERROR | OK | |
| derby | Mac OS X (10.4.9) | i686 | [ OK ] | WARNINGS |
| Package: GGtools |
| Version: 1.4.0 |
| Command: /Library/Frameworks/R.framework/Resources/bin/R CMD build GGtools |
| RetCode: 0 |
| Time: 182.6 seconds |
| Status: OK |
| PackageFile: GGtools_1.4.0.tar.gz |
* checking for file 'GGtools/DESCRIPTION' ... OK
* preparing 'GGtools':
* checking DESCRIPTION meta-information ... OK
* cleaning src
* installing the package to re-build vignettes
* Installing *source* package 'GGtools' ...
** libs
** arch - i386
g++-4.0 -arch i386 -isysroot /Developer/SDKs/MacOSX10.4u.sdk -no-cpp-precomp -I/Library/Frameworks/R.framework/Resources/include -I/Library/Frameworks/R.framework/Resources/include/i386 -msse3 -fPIC -g -O2 -march=nocona -c minfra.cc -o minfra.o
g++-4.0 -arch i386 -isysroot /Developer/SDKs/MacOSX10.4u.sdk -dynamiclib -Wl,-macosx_version_min -Wl,10.3 -undefined dynamic_lookup -single_module -multiply_defined suppress -L/usr/local/lib -o GGtools.so minfra.o -F/Library/Frameworks/R.framework/.. -framework R
** arch - ppc
g++-4.0 -arch ppc -isysroot /Developer/SDKs/MacOSX10.4u.sdk -no-cpp-precomp -I/Library/Frameworks/R.framework/Resources/include -I/Library/Frameworks/R.framework/Resources/include/ppc -I/usr/local/include -fPIC -g -O2 -c minfra.cc -o minfra.o
g++-4.0 -arch ppc -isysroot /Developer/SDKs/MacOSX10.4u.sdk -dynamiclib -Wl,-macosx_version_min -Wl,10.3 -undefined dynamic_lookup -single_module -multiply_defined suppress -L/usr/local/lib -o GGtools.so minfra.o -F/Library/Frameworks/R.framework/.. -framework R
** R
** data
** inst
** preparing package for lazy loading
Loading required package: Biobase
Loading required package: tools
Welcome to Bioconductor
Vignettes contain introductory material. To view, type
'openVignette()'. To cite Bioconductor, see
'citation("Biobase")' and for packages 'citation(pkgname)'.
Loading required package: hgfocus
Loading required package: geneplotter
Loading required package: annotate
Loading required package: lattice
KernSmooth 2.22 installed
Copyright M. P. Wand 1997
Loading required package: mgu74av2
Creating a new generic function for "nrow" in "GGtools"
** help
>>> Building/Updating help pages for package 'GGtools'
Formats: text html latex example
HM2rac text html latex example
HMworkflow text html latex example
Strains2rac text html latex example
geneLocs text html latex example
genoStrings text html latex example
make_racExSet text html latex example
oGtypeExSet-class text html latex example
plot_EvG text html latex example
racExSet-class text html latex example
snpMeta-class text html latex example
snpScreen text html latex example
snps text html latex example
** building package indices ...
Loading required package: methods
* DONE (GGtools)
* creating vignettes ... OK
* cleaning src
* removing junk files
* checking for LF line-endings in source files
* checking for empty or unneeded directories
* building 'GGtools_1.4.0.tar.gz'