Back to the "Multiple platform build/check report"
| Package 59/214 | Hostname | OS | Arch | BUILD | CHECK | BUILD BIN |
EBImage2.0.0Oleg SklyarLast Changed Date: 2007-04-24 11:48:00 -0700 Last Changed Rev: 24218 | lamb1 | Linux (SUSE 10.1) | x86_64 | OK | OK | |
| wellington | Linux (SUSE 9.2) | i686 | ERROR | skipped | ||
| churchill | Solaris 2.9 | sparc | OK | OK | ||
| lemming | Windows Server 2003 (32-bit) | x64 | N O T S U P P O R T E D | |||
| liverpool | Windows Server 2003 R2 (32-bit) | x64 | OK | WARNINGS | [ OK ] | |
| derby | Mac OS X (10.4.9) | i686 | ERROR | skipped | ||
| Package: EBImage |
| Version: 2.0.0 |
| Command: E:\biocbld\bbs-2.0-bioc\R\bin\R.exe CMD INSTALL --build --library=EBImage.BUILDBINinstdir EBImage_2.0.0.tar.gz |
| RetCode: 0 |
| Time: 23.0 seconds |
| Status: OK |
| PackageFile: EBImage_2.0.0.zip |
installing R.css in E:/biocbld/bbs-2.0-bioc/meat/EBImage.BUILDBINinstdir
Using auto-selected zip options ' EBImage-HELP=ziponly'
---------- Making package EBImage ------------
adding build stamp to DESCRIPTION
installing NAMESPACE file and metadata
installing R files
save image
installing inst files
installing man source files
installing indices
installing help
>>> Building/Updating help pages for package 'EBImage'
Formats: text html latex example chm
EBImage-package text html latex chm
Image.generic.methods text html latex chm
channel text html latex example chm
class.Image text html latex example chm
constructors text html latex chm
denoising text html latex chm
display text html latex example chm
distmap text html latex example chm
enhancing text html latex chm
getObjects text html latex example chm
input-output text html latex example chm
internals text html latex chm
matchObjects text html latex chm
morphology text html latex example chm
normalize text html latex example chm
paintObjects text html latex example chm
propagate text html latex example chm
rmObjects text html latex example chm
segmenting text html latex chm
thresholding text html latex example chm
tile text html latex chm
transformations text html latex chm
watershed text html latex example chm
zipping help files
Microsoft HTML Help Compiler 4.74.8702
Compiling e:\biocbld\bbs-2.0-bioc\meat\R.INSTALL.5524\EBImage\chm\EBImage.chm
Compile time: 0 minutes, 1 second
24 Topics
266 Local links
15 Internet links
1 Graphic
Created e:\biocbld\bbs-2.0-bioc\meat\R.INSTALL.5524\EBImage\chm\EBImage.chm, 62,152 bytes
Compression decreased file by 71,436 bytes.
adding MD5 sums
packaged installation of package 'EBImage' as EBImage_2.0.0.zip
* DONE (EBImage)