Back to the "Multiple platform build/check report"
| Package 57/214 | Hostname | OS | Arch | BUILD | CHECK | BUILD BIN | 
| DynDoc1.14.0Biocore TeamLast Changed Date: 2007-04-24 11:21:48 -0700 Last Changed Rev: 24214 | lamb1 | Linux (SUSE 10.1) | x86_64 | OK | OK | |
| wellington | Linux (SUSE 9.2) | i686 | OK | OK | ||
| churchill | Solaris 2.9 | sparc | OK | [ OK ] | ||
| lemming | Windows Server 2003 (32-bit) | x64 | OK | OK | OK | |
| liverpool | Windows Server 2003 R2 (32-bit) | x64 | OK | OK | OK | |
| derby | Mac OS X (10.4.9) | i686 | OK | OK | 
| Package: DynDoc | 
| Version: 1.14.0 | 
| Command: /loc/biocbuild/bbs-2.0-bioc/R/bin/R CMD check DynDoc_1.14.0.tar.gz | 
| RetCode: 0 | 
| Time: 93.4 seconds | 
| Status: OK | 
| CheckDir: DynDoc.Rcheck | 
| Warnings: 0 | 
* checking for working latex ... OK * using log directory '/loc/biocbuild/bbs-2.0-bioc/meat/DynDoc.Rcheck' * using R version 2.5.0 (2007-04-23) * checking for file 'DynDoc/DESCRIPTION' ... OK * this is package 'DynDoc' version '1.14.0' * checking package dependencies ... OK * checking if this is a source package ... OK * checking whether package 'DynDoc' can be installed ... OK * checking package directory ... OK * checking for portable file names ... OK * checking for sufficient/correct file permissions ... OK * checking DESCRIPTION meta-information ... OK * checking top-level files ... OK * checking index information ... OK * checking package subdirectories ... OK * checking R files for non-ASCII characters ... OK * checking R files for syntax errors ... OK * checking whether the package can be loaded ... OK * checking whether the package can be loaded with stated dependencies ... OK * checking whether the name space can be loaded with stated dependencies ... OK * checking for unstated dependencies in R code ... OK * checking S3 generic/method consistency ... OK * checking replacement functions ... OK * checking foreign function calls ... OK * checking R code for possible problems ... OK * checking Rd files ... OK * checking Rd cross-references ... OK * checking for missing documentation entries ... OK * checking for code/documentation mismatches ... OK * checking Rd \usage sections ... OK * creating DynDoc-Ex.R ... OK * checking examples ... OK * creating DynDoc-manual.tex ... OK * checking DynDoc-manual.tex ... OK
DynDoc.Rcheck/00install.out:
* Installing *source* package 'DynDoc' ...
** R
** save image
Creating a new generic function for "summary" in "DynDoc"
** help
 >>> Building/Updating help pages for package 'DynDoc'
     Formats: text html latex example 
  DynDoc-class                      text    html    latex
  SweaveOptions-class               text    html    latex
  Vignette-class                    text    html    latex
  chunkList-class                   text    html    latex   example
  codeChunk-class                   text    html    latex   example
  getPkgVigList                     text    html    latex   example
  getVignette                       text    html    latex
  getVignetteCode                   text    html    latex
  getVignetteHeader                 text    html    latex
  tangleToR                         text    html    latex   example
  vignetteCode-class                text    html    latex
** building package indices ...
* DONE (DynDoc)