Back to the "Multiple platform build/check report"
| Package 49/214 | Hostname | OS | Arch | BUILD | CHECK | BUILD BIN |
CORREP1.2.0Dongxiao ZhuLast Changed Date: 2007-04-24 11:21:48 -0700 Last Changed Rev: 24214 | lamb1 | Linux (SUSE 10.1) | x86_64 | OK | OK | |
| wellington | Linux (SUSE 9.2) | i686 | OK | OK | ||
| churchill | Solaris 2.9 | sparc | OK | OK | ||
| lemming | Windows Server 2003 (32-bit) | x64 | OK | OK | OK | |
| liverpool | Windows Server 2003 R2 (32-bit) | x64 | OK | OK | [ OK ] | |
| derby | Mac OS X (10.4.9) | i686 | OK | OK |
| Package: CORREP |
| Version: 1.2.0 |
| Command: E:\biocbld\bbs-2.0-bioc\R\bin\R.exe CMD INSTALL --build --library=CORREP.BUILDBINinstdir CORREP_1.2.0.tar.gz |
| RetCode: 0 |
| Time: 18.0 seconds |
| Status: OK |
| PackageFile: CORREP_1.2.0.zip |
installing R.css in E:/biocbld/bbs-2.0-bioc/meat/CORREP.BUILDBINinstdir
Using auto-selected zip options ''
---------- Making package CORREP ------------
adding build stamp to DESCRIPTION
installing R files
installing inst files
installing data files
installing man source files
installing indices
not zipping data
installing help
>>> Building/Updating help pages for package 'CORREP'
Formats: text html latex example chm
CORREP-package text html latex example chm
cor.LRtest text html latex example chm
cor.LRtest.std text html latex example chm
cor.balance text html latex example chm
cor.bootci text html latex example chm
cor.unbalance text html latex example chm
gal_all text html latex example chm
permutest text html latex example chm
true.member text html latex example chm
Microsoft HTML Help Compiler 4.74.8702
Compiling e:\biocbld\bbs-2.0-bioc\meat\R.INSTALL.3632\CORREP\chm\CORREP.chm
Compile time: 0 minutes, 1 second
10 Topics
30 Local links
0 Internet links
1 Graphic
Created e:\biocbld\bbs-2.0-bioc\meat\R.INSTALL.3632\CORREP\chm\CORREP.chm, 28,945 bytes
Compression decreased file by 11,528 bytes.
adding MD5 sums
packaged installation of package 'CORREP' as CORREP_1.2.0.zip
* DONE (CORREP)