Back to the "Multiple platform build/check report"
| Package 16/214 | Hostname | OS | Arch | BUILD | CHECK | BUILD BIN |
AnnBuilder1.14.0J. ZhangLast Changed Date: 2007-04-24 11:21:48 -0700 Last Changed Rev: 24214 | lamb1 | Linux (SUSE 10.1) | x86_64 | OK | OK | |
| wellington | Linux (SUSE 9.2) | i686 | OK | OK | ||
| churchill | Solaris 2.9 | sparc | [ ERROR ] | skipped | ||
| lemming | Windows Server 2003 (32-bit) | x64 | OK | OK | OK | |
| liverpool | Windows Server 2003 R2 (32-bit) | x64 | OK | OK | OK | |
| derby | Mac OS X (10.4.9) | i686 | OK | OK |
| Package: AnnBuilder |
| Version: 1.14.0 |
| Command: /loc/biocbuild/bbs-2.0-bioc/R/bin/R CMD build AnnBuilder |
| RetCode: 1 |
| Time: 7.0 seconds |
| Status: ERROR |
| PackageFile: None |
* checking for file 'AnnBuilder/DESCRIPTION' ... OK
* preparing 'AnnBuilder':
* checking DESCRIPTION meta-information ... OK
* installing the package to re-build vignettes
* Installing *source* package 'AnnBuilder' ...
** R
** data
** inst
** save image
Loading required package: Biobase
Loading required package: tools
Welcome to Bioconductor
Vignettes contain introductory material. To view, type
'openVignette()'. To cite Bioconductor, see
'citation("Biobase")' and for packages 'citation(pkgname)'.
Loading required package: XML
Error: package 'XML' could not be loaded
In addition: Warning message:
there is no package called 'XML' in: library(pkg, character.only = TRUE, logical = TRUE, lib.loc = lib.loc)
Execution halted
ERROR: execution of package source for 'AnnBuilder' failed
** Removing '/tmp/Rinst1424386173/AnnBuilder'
ERROR
Installation failed.
Removing '/tmp/Rinst1424386173'