Back to the "Multiple platform build/check report"
| Package 97/208 | OS | Arch | BUILD | CHECK | BUILD BIN |
iSPlot1.9.0Elizabeth Whalen | Linux (SUSE 9.2) | x86_64 | OK | OK | |
| Linux (SUSE 10.1) | x86_64 | OK | OK | ||
| Linux (SUSE 9.2) | i686 | OK | [ OK ] | ||
| Solaris 2.9 | sparc | OK | OK | ||
| Windows Server 2003 | x86_64 | ERROR | skipped | skipped | |
| Windows Server 2003 | NA | ERROR | skipped | skipped | |
| Mac OS X (10.4.6) | i686 | ERROR | skipped |
| Package: iSPlot |
| Version: 1.9.0 |
| Command: /loc/biocbuild/2.0d/R/bin/R CMD check iSPlot_1.9.0.tar.gz |
| RetCode: 0 |
| Time: 107.2 seconds |
| Status: OK |
| CheckDir: iSPlot.Rcheck |
| Warnings: 0 |
* checking for working latex ... OK * using log directory '/extra/loc/biocbuild/2.0d/Rpacks/iSPlot.Rcheck' * using R version 2.5.0 Under development (unstable) (2006-12-05 r40126) * checking for file 'iSPlot/DESCRIPTION' ... OK * this is package 'iSPlot' version '1.9.0' * checking package dependencies ... OK * checking if this is a source package ... OK * checking whether package 'iSPlot' can be installed ... OK * checking package directory ... OK * checking for portable file names ... OK * checking for sufficient/correct file permissions ... OK * checking DESCRIPTION meta-information ... OK * checking top-level files ... OK * checking index information ... OK * checking package subdirectories ... OK * checking R files for syntax errors ... OK * checking R files for non-ASCII characters ... OK * checking whether the package can be loaded ... OK * checking whether the package can be loaded with stated dependencies ... OK * checking whether the name space can be loaded with stated dependencies ... OK * checking S3 generic/method consistency ... OK * checking replacement functions ... OK * checking foreign function calls ... OK * checking R code for possible problems ... OK * checking Rd files ... OK * checking Rd cross-references ... OK * checking for missing documentation entries ... OK * checking for code/documentation mismatches ... OK * checking Rd \usage sections ... OK * creating iSPlot-Ex.R ... OK * checking examples ... OK * checking package vignettes in 'inst/doc' ... OK * creating iSPlot-manual.tex ... OK * checking iSPlot-manual.tex ... OK
iSPlot.Rcheck/00install.out:
* Installing *source* package 'iSPlot' ...
** R
** inst
** save image
Loading required package: RGtk
Loading required package: gtkDevice
Loading required package: MVCClass
** help
>>> Building/Updating help pages for package 'iSPlot'
Formats: text html latex example
addCBFunction text html latex example
addMenuItem text html latex example
addToKeyVals text html latex example
clickEvent-methods text html latex
createControlWindow text html latex example
createSPlot text html latex example
createSpreadsheet text html latex example
deleteMVC text html latex example
findElement text html latex example
getActiveMVC text html latex example
getColor text html latex example
getData text html latex example
getMVCFromWinNum text html latex example
getMVCList text html latex example
getModelNames text html latex example
getTooltips text html latex example
handleMessage-methods text html latex
initialize-methods text html latex
loadData text html latex example
loadFile text html latex example
loadModel text html latex example
motionEvent-methods text html latex
quitiSPlot text html latex example
redrawView-methods text html latex
replotViews text html latex example
resetData text html latex example
resetWinSize text html latex example
setActiveMVC text html latex example
setCallFunc text html latex example
setColor text html latex example
setToggleX text html latex example
setTooltips text html latex example
updateModel-methods text html latex
updateView-methods text html latex
** building package indices ...
* DONE (iSPlot)