Back to the "Multiple platform build/check report"
| Package 89/208 | OS | Arch | BUILD | CHECK | BUILD BIN |
HEM1.7.0HyungJun Cho | Linux (SUSE 9.2) | x86_64 | OK | OK | |
| Linux (SUSE 10.1) | x86_64 | OK | OK | ||
| Linux (SUSE 9.2) | i686 | OK | OK | ||
| Solaris 2.9 | sparc | OK | OK | ||
| Windows Server 2003 | x86_64 | OK | OK | OK | |
| Windows Server 2003 | NA | OK | TIMEOUT | OK | |
| Mac OS X (10.4.6) | i686 | OK | [ OK ] |
| Package: HEM |
| Version: 1.7.0 |
| Command: /Library/Frameworks/R.framework/Resources/bin/R CMD check HEM_1.7.0.tar.gz |
| RetCode: 0 |
| Time: 45.8 seconds |
| Status: OK |
| CheckDir: HEM.Rcheck |
| Warnings: 0 |
* checking for working latex ... OK * using log directory '/Users/biocbuild/2.0d/Rpacks/HEM.Rcheck' * using R version 2.5.0 Under development (unstable) (2006-10-21 r39702) * checking for file 'HEM/DESCRIPTION' ... OK * this is package 'HEM' version '1.7.0' * checking package dependencies ... OK * checking if this is a source package ... OK * checking whether package 'HEM' can be installed ... OK * checking package directory ... OK * checking for portable file names ... OK * checking for sufficient/correct file permissions ... OK * checking DESCRIPTION meta-information ... OK * checking top-level files ... OK * checking index information ... OK * checking package subdirectories ... OK * checking R files for syntax errors ... OK * checking R files for non-ASCII characters ... OK * checking whether the package can be loaded ... OK * checking whether the package can be loaded with stated dependencies ... OK * checking S3 generic/method consistency ... OK * checking replacement functions ... OK * checking foreign function calls ... OK * checking R code for possible problems ... OK * checking Rd files ... OK * checking Rd cross-references ... OK * checking for missing documentation entries ... OK * checking for code/documentation mismatches ... OK * checking Rd \usage sections ... OK * checking for CRLF line endings in C/C++/Fortran sources/headers ... OK * checking for portable use of $BLAS_LIBS ... OK * creating HEM-Ex.R ... OK * checking examples ... OK * checking package vignettes in 'inst/doc' ... OK * creating HEM-manual.tex ... OK * checking HEM-manual.tex ... OK
HEM.Rcheck/00install.out:
* Installing *source* package 'HEM' ...
** libs
** arch - i386
gcc-4.0 -arch i386 -I/Library/Frameworks/R.framework/Resources/include -I/Library/Frameworks/R.framework/Resources/include/i386 -msse3 -D__NO_MATH_INLINES -fPIC -g -O2 -std=gnu99 -march=pentium-m -mtune=prescott -c hem.c -o hem.o
/var/tmp//ccOvCD1J.s:8632:indirect jmp without `*'
/var/tmp//ccOvCD1J.s:8647:indirect jmp without `*'
/var/tmp//ccOvCD1J.s:8662:indirect jmp without `*'
/var/tmp//ccOvCD1J.s:8677:indirect jmp without `*'
/var/tmp//ccOvCD1J.s:8692:indirect jmp without `*'
/var/tmp//ccOvCD1J.s:8707:indirect jmp without `*'
/var/tmp//ccOvCD1J.s:8722:indirect jmp without `*'
/var/tmp//ccOvCD1J.s:8737:indirect jmp without `*'
/var/tmp//ccOvCD1J.s:8752:indirect jmp without `*'
/var/tmp//ccOvCD1J.s:8767:indirect jmp without `*'
gcc-4.0 -arch i386 -dynamiclib -Wl,-macosx_version_min -Wl,10.3 -undefined dynamic_lookup -single_module -multiply_defined suppress -L/usr/local/lib -o HEM.so hem.o -F/Library/Frameworks/R.framework/.. -framework R
** arch - ppc
gcc-4.0 -arch ppc -std=gnu99 -I/Library/Frameworks/R.framework/Resources/include -I/Library/Frameworks/R.framework/Resources/include/ppc -I/usr/local/include -fPIC -g -O2 -c hem.c -o hem.o
gcc-4.0 -arch ppc -std=gnu99 -dynamiclib -Wl,-macosx_version_min -Wl,10.3 -undefined dynamic_lookup -single_module -multiply_defined suppress -L/usr/local/lib -o HEM.so hem.o -F/Library/Frameworks/R.framework/.. -framework R
** R
** data
** inst
** preparing package for lazy loading
Loading required package: Biobase
Loading required package: tools
Welcome to Bioconductor
Vignettes contain introductory material. To view, type
'openVignette()' or start with 'help(Biobase)'. For details
on reading vignettes, see the openVignette help page.
** help
>>> Building/Updating help pages for package 'HEM'
Formats: text html latex example
am.tran text html latex
am.tran.half text html latex
base.ASE.Olig text html latex
base.PSE.Olig text html latex
base.error.Olig text html latex
base.error.Olig.quanOnly text html latex
boot.base.ASE.Olig text html latex
boot.base.PSE.Olig text html latex
boot.base.error.Olig text html latex
fixbound.predict.smooth.spline text html latex
hem text html latex example
hem.eb.prior text html latex example
hem.fdr text html latex example
hem.null.no text html latex
hem.null.one text html latex
hem.null.two text html latex
hem.preproc text html latex example
mubcp text html latex
nonpar.error.Olig text html latex
nonpar.no.error.Olig text html latex
nonpar.rep.error.Olig text html latex
par.error.Olig text html latex
par.no.error.Olig text html latex
par.rep.error.Olig text html latex
pbrain text html latex
permut text html latex
quant.norm text html latex
quant.normal text html latex
quant.normal2 text html latex
quant.normalize text html latex
remove.sig.genes text html latex
** building package indices ...
* DONE (HEM)