2.5.1R. Meister | Linux (SUSE 9.2)  | x86_64 |  OK  |  OK  |  | 
| Linux (SUSE 10.1)  | x86_64 |  OK  |  OK  |  | 
| Linux (SUSE 9.2)  | i686 |  ERROR  | skipped |  | 
| Solaris 2.9  | sparc |  ERROR  | skipped |  | 
| Windows Server 2003  | x86_64 |  OK  |  OK  |  OK  | 
| Windows Server 2003  | NA |  OK  |  ERROR  |  OK  | 
| Mac OS X (10.4.6)  | i686 | [ OK ] |  WARNINGS  |  | 
* checking for file 'GlobalAncova/DESCRIPTION' ... OK
* preparing 'GlobalAncova':
* checking DESCRIPTION meta-information ... OK
* installing the package to re-build vignettes
* Installing *source* package 'GlobalAncova' ...
** R
** data
** inst
** preparing package for lazy loading
** help
 >>> Building/Updating help pages for package 'GlobalAncova'
     Formats: text html latex example 
  GlobalAncova-methods              text    html    latex
  GlobalAncova                      text    html    latex   example
  GlobalAncova.closed-methods       text    html    latex
  GlobalAncova.closed               text    html    latex
  Plot.genes-methods                text    html    latex
  Plot.genes                        text    html    latex   example
  Plot.subjects-methods             text    html    latex
  Plot.subjects                     text    html    latex   example
  pathways                          text    html    latex   example
  phenodata                         text    html    latex   example
  vantVeer                          text    html    latex   example
** building package indices ...
* DONE (GlobalAncova)
* creating vignettes ... OK
* removing junk files
* checking for LF line-endings in source files
* checking for empty or unneeded directories
* building 'GlobalAncova_2.5.1.tar.gz'