| 1.5.0Alexander Ploner | Linux (SUSE 9.2) | x86_64 | OK | WARNINGS |  | 
| Linux (SUSE 10.1) | x86_64 | OK | WARNINGS |  | 
| Linux (SUSE 9.2) | i686 | OK | WARNINGS |  | 
| Solaris 2.9 | sparc | [ OK ] | WARNINGS |  | 
| Windows Server 2003 | x86_64 | OK | WARNINGS | OK | 
| Windows Server 2003 | NA | OK | ERROR | OK | 
| Mac OS X (10.4.6) | i686 | OK | WARNINGS |  | 
* checking for file 'maCorrPlot/DESCRIPTION' ... OK
* preparing 'maCorrPlot':
* checking DESCRIPTION meta-information ... OK
* installing the package to re-build vignettes
* Installing *source* package 'maCorrPlot' ...
** R
** data
** inst
** help
 >>> Building/Updating help pages for package 'maCorrPlot'
     Formats: text html latex example 
  CorrSample                        text    html    latex   example
  CutCI                             text    html    latex   example
  oligodata                         text    html    latex   example
  plot.corr.sample                  text    html    latex   example
** building package indices ...
* DONE (maCorrPlot)
* creating vignettes ... OK
* removing junk files
* checking for LF line-endings in source files
* checking for empty or unneeded directories
* building 'maCorrPlot_1.5.0.tar.gz'