Back to the "Multiple platform build/check report"
| Package 135/208 | OS | Arch | BUILD | CHECK | BUILD BIN |
OLINgui1.9.0Matthias Futschik | Linux (SUSE 9.2) | x86_64 | OK | OK | |
| Linux (SUSE 10.1) | x86_64 | OK | OK | ||
| Linux (SUSE 9.2) | i686 | OK | OK | ||
| Solaris 2.9 | sparc | OK | [ OK ] | ||
| Windows Server 2003 | x86_64 | OK | OK | OK | |
| Windows Server 2003 | NA | ERROR | skipped | skipped | |
| Mac OS X (10.4.6) | i686 | OK | OK |
| Package: OLINgui |
| Version: 1.9.0 |
| Command: /loc/biocbuild/2.0d/R/bin/R CMD check OLINgui_1.9.0.tar.gz |
| RetCode: 0 |
| Time: 106.9 seconds |
| Status: OK |
| CheckDir: OLINgui.Rcheck |
| Warnings: 0 |
* checking for working latex ... OK * using log directory '/loc/biocbuild/2.0d/Rpacks/OLINgui.Rcheck' * using R version 2.5.0 Under development (unstable) (2006-12-05 r40126) * checking for file 'OLINgui/DESCRIPTION' ... OK * this is package 'OLINgui' version '1.9.0' * checking package dependencies ... OK * checking if this is a source package ... OK * checking whether package 'OLINgui' can be installed ... OK * checking package directory ... OK * checking for portable file names ... OK * checking for sufficient/correct file permissions ... OK * checking DESCRIPTION meta-information ... OK * checking top-level files ... OK * checking index information ... OK * checking package subdirectories ... OK * checking R files for syntax errors ... OK * checking R files for non-ASCII characters ... OK * checking whether the package can be loaded ... OK * checking whether the package can be loaded with stated dependencies ... OK * checking S3 generic/method consistency ... OK * checking replacement functions ... OK * checking foreign function calls ... OK * checking R code for possible problems ... OK * checking Rd files ... OK * checking Rd cross-references ... OK * checking for missing documentation entries ... OK * checking for code/documentation mismatches ... OK * checking Rd \usage sections ... OK * creating OLINgui-Ex.R ... OK * checking examples ... OK * checking package vignettes in 'inst/doc' ... OK * creating OLINgui-manual.tex ... OK * checking OLINgui-manual.tex ... OK
OLINgui.Rcheck/00install.out:
* Installing *source* package 'OLINgui' ...
** R
** inst
** preparing package for lazy loading
Loading required package: OLIN
Loading required package: locfit
Loading required package: akima
Loading required package: lattice
locfit 1.5-3 2006-04-06
Loading required package: Biobase
Loading required package: tools
Welcome to Bioconductor
Vignettes contain introductory material. To view, type
'openVignette()' or start with 'help(Biobase)'. For details
on reading vignettes, see the openVignette help page.
Loading required package: marray
Loading required package: limma
** help
>>> Building/Updating help pages for package 'OLINgui'
Formats: text html latex example
OLINgui text html latex
** building package indices ...
* DONE (OLINgui)