Back to the "Multiple platform build/check report"
| Package 20/188 | OS | Arch | BUILD | CHECK | BUILD BIN | 
| aroma.light1.2.0Henrik Bengtsson | Linux (SUSE 9.2) | x86_64 | OK | OK | |
| Linux (SUSE 9.2) | i686 | [ OK ] | OK | ||
| Solaris 2.9 | sparc | OK | OK | ||
| Linux (SUSE 10.0) | x86_64 | OK | OK | ||
| Windows Server 2003 | x86_64 | OK | OK | OK | 
| Package: aroma.light | 
| Version: 1.2.0 | 
| Command: /loc/biocbuild/1.9d/R/bin/R CMD build aroma.light | 
| RetCode: 0 | 
| Time: 3.5 seconds | 
| Status: OK | 
| PackageFile: aroma.light_1.2.0.tar.gz | 
* checking for file 'aroma.light/DESCRIPTION' ... OK * preparing 'aroma.light': * checking DESCRIPTION meta-information ... OK * removing junk files * checking for LF line-endings in source files * checking for empty or unneeded directories * building 'aroma.light_1.2.0.tar.gz'