Back to the "Multiple platform build/check report"
| Package 129/188 | OS | Arch | BUILD | CHECK | BUILD BIN |
pcaMethods1.2.0Wolfram Stacklies | Linux (SUSE 9.2) | x86_64 | OK | OK | |
| Linux (SUSE 9.2) | i686 | OK | OK | ||
| Solaris 2.9 | sparc | OK | OK | ||
| Linux (SUSE 10.0) | x86_64 | OK | OK | ||
| Windows Server 2003 | x86_64 | OK | [ OK ] | OK |
| Package: pcaMethods |
| Version: 1.2.0 |
| Command: D:\biocbld\1.9d\R\bin\R.exe CMD check pcaMethods_1.2.0.tar.gz |
| RetCode: 0 |
| Time: 264.7 seconds |
| Status: OK |
| CheckDir: pcaMethods.Rcheck |
| Warnings: 0 |
* checking for working latex ... OK * using log directory 'D:/biocbld/1.9d/Rpacks/pcaMethods.Rcheck' * using R version 2.4.0 (2006-10-03) * checking for file 'pcaMethods/DESCRIPTION' ... OK * this is package 'pcaMethods' version '1.2.0' * checking package dependencies ... OK * checking if this is a source package ... OK * checking whether package 'pcaMethods' can be installed ... OK * checking package directory ... OK * checking for portable file names ... OK * checking DESCRIPTION meta-information ... OK * checking top-level files ... OK * checking index information ... OK * checking package subdirectories ... OK * checking R files for syntax errors ... OK * checking R files for non-ASCII characters ... OK * checking whether the package can be loaded ... OK * checking whether the package can be loaded with stated dependencies ... OK * checking whether the name space can be loaded with stated dependencies ... OK * checking S3 generic/method consistency ... OK * checking replacement functions ... OK * checking foreign function calls ... OK * checking R code for possible problems ... OK * checking Rd files ... OK * checking Rd cross-references ... OK * checking for missing documentation entries ... OK * checking for code/documentation mismatches ... OK * checking Rd \usage sections ... OK * creating pcaMethods-Ex.R ... OK * checking examples ... OK * checking package vignettes in 'inst/doc' ... OK * creating pcaMethods-manual.tex ... OK * checking pcaMethods-manual.tex ... OK
pcaMethods.Rcheck/00install.out:
installing R.css in D:/biocbld/1.9d/Rpacks/pcaMethods.Rcheck
---------- Making package pcaMethods ------------
adding build stamp to DESCRIPTION
installing NAMESPACE file and metadata
installing R files
installing inst files
installing data files
installing man source files
installing indices
not zipping data
installing help
>>> Building/Updating help pages for package 'pcaMethods'
Formats: text html latex example chm
Q2 text html latex example chm
bpca text html latex example chm
checkData text html latex chm
class.pcaRes text html latex chm
completeObs text html latex chm
kEstimate text html latex example chm
metaboliteData text html latex chm
metaboliteDataComplete text html latex chm
nipalsPca text html latex example chm
pca text html latex example chm
plotPcs text html latex example chm
ppca text html latex example chm
prep text html latex example chm
slplot text html latex example chm
svdImpute text html latex example chm
svdPca text html latex example chm
Microsoft HTML Help Compiler 4.74.8702
Compiling d:\biocbld\1.9d\Rpacks\pcaMethods.Rcheck\00_pkg_src\pcaMethods\chm\pcaMethods.chm
Compile time: 0 minutes, 0 seconds
17 Topics
70 Local links
2 Internet links
1 Graphic
Created d:\biocbld\1.9d\Rpacks\pcaMethods.Rcheck\00_pkg_src\pcaMethods\chm\pcaMethods.chm, 41,109 bytes
Compression decreased file by 24,184 bytes.
preparing package pcaMethods for lazy loading
Loading required package: MASS
Loading required package: ellipse
Loading required package: pls
Attaching package: 'pls'
The following object(s) are masked from package:stats :
loadings
Creating a new generic function for "print" in "pcaMethods"
Creating a new generic function for "summary" in "pcaMethods"
Creating a new generic function for "screeplot" in "pcaMethods"
adding MD5 sums
* DONE (pcaMethods)