Back to the "Multiple platform build/check report"
| Package 106/188 | OS | Arch | BUILD | CHECK | BUILD BIN |
maSigPro1.6.0Ana Conesa | Linux (SUSE 9.2) | x86_64 | OK | OK | |
| Linux (SUSE 9.2) | i686 | OK | OK | ||
| Solaris 2.9 | sparc | OK | OK | ||
| Linux (SUSE 10.0) | x86_64 | OK | OK | ||
| Windows Server 2003 | x86_64 | OK | [ OK ] | OK |
| Package: maSigPro |
| Version: 1.6.0 |
| Command: D:\biocbld\1.9d\R\bin\R.exe CMD check maSigPro_1.6.0.tar.gz |
| RetCode: 0 |
| Time: 105.4 seconds |
| Status: OK |
| CheckDir: maSigPro.Rcheck |
| Warnings: 0 |
* checking for working latex ... OK * using log directory 'D:/biocbld/1.9d/Rpacks/maSigPro.Rcheck' * using R version 2.4.0 (2006-10-03) * checking for file 'maSigPro/DESCRIPTION' ... OK * checking extension type ... Package * this is package 'maSigPro' version '1.6.0' * checking package dependencies ... OK * checking if this is a source package ... OK * checking whether package 'maSigPro' can be installed ... OK * checking package directory ... OK * checking for portable file names ... OK * checking DESCRIPTION meta-information ... OK * checking top-level files ... OK * checking index information ... OK * checking package subdirectories ... OK * checking R files for syntax errors ... OK * checking R files for non-ASCII characters ... OK * checking whether the package can be loaded ... OK * checking whether the package can be loaded with stated dependencies ... OK * checking S3 generic/method consistency ... OK * checking replacement functions ... OK * checking foreign function calls ... OK * checking R code for possible problems ... OK * checking Rd files ... OK * checking Rd cross-references ... OK * checking for missing documentation entries ... OK * checking for code/documentation mismatches ... OK * checking Rd \usage sections ... OK * creating maSigPro-Ex.R ... OK * checking examples ... OK * checking package vignettes in 'inst/doc' ... OK * creating maSigPro-manual.tex ... OK * checking maSigPro-manual.tex ... OK
maSigPro.Rcheck/00install.out:
installing R.css in D:/biocbld/1.9d/Rpacks/maSigPro.Rcheck
---------- Making package maSigPro ------------
adding build stamp to DESCRIPTION
installing R files
save image
Loading required package: Biobase
Loading required package: tools
Welcome to Bioconductor
Vignettes contain introductory material. To view, type
'openVignette()' or start with 'help(Biobase)'. For details
on reading vignettes, see the openVignette help page.
installing inst files
installing data files
installing man source files
installing indices
not zipping data
installing help
>>> Building/Updating help pages for package 'maSigPro'
Formats: text html latex example chm
PlotGroups text html latex example chm
PlotProfiles text html latex example chm
T.fit text html latex example chm
average.rows text html latex example chm
data.abiotic text html latex example chm
edesign.OD text html latex example chm
edesign.abiotic text html latex example chm
edesignCT text html latex example chm
edesignDR text html latex example chm
get.siggenes text html latex example chm
i.rank text html latex example chm
maSigPro text html latex example chm
make.design.matrix text html latex example chm
p.vector text html latex example chm
position text html latex example chm
reg.coeffs text html latex example chm
see.genes text html latex example chm
stepback text html latex example chm
stepfor text html latex example chm
suma2Venn text html latex example chm
two.ways.stepback text html latex example chm
two.ways.stepfor text html latex example chm
Microsoft HTML Help Compiler 4.74.8702
Compiling d:\biocbld\1.9d\Rpacks\maSigPro.Rcheck\00_pkg_src\maSigPro\chm\maSigPro.chm
Compile time: 0 minutes, 0 seconds
23 Topics
127 Local links
0 Internet links
1 Graphic
Created d:\biocbld\1.9d\Rpacks\maSigPro.Rcheck\00_pkg_src\maSigPro\chm\maSigPro.chm, 56,461 bytes
Compression decreased file by 67,672 bytes.
adding MD5 sums
* DONE (maSigPro)