Back to the "Multiple platform build/check report"
| Package 94/188 | OS | Arch | BUILD | CHECK | BUILD BIN |
LMGene1.2.0Geun Cheol Lee | Linux (SUSE 9.2) | x86_64 | OK | OK | |
| Linux (SUSE 9.2) | i686 | OK | OK | ||
| Solaris 2.9 | sparc | OK | OK | ||
| Linux (SUSE 10.0) | x86_64 | OK | OK | ||
| Windows Server 2003 | x86_64 | OK | [ OK ] | OK |
| Package: LMGene |
| Version: 1.2.0 |
| Command: D:\biocbld\1.9d\R\bin\R.exe CMD check LMGene_1.2.0.tar.gz |
| RetCode: 0 |
| Time: 159.4 seconds |
| Status: OK |
| CheckDir: LMGene.Rcheck |
| Warnings: 0 |
* checking for working latex ... OK * using log directory 'D:/biocbld/1.9d/Rpacks/LMGene.Rcheck' * using R version 2.4.0 (2006-10-03) * checking for file 'LMGene/DESCRIPTION' ... OK * this is package 'LMGene' version '1.2.0' * checking package dependencies ... OK * checking if this is a source package ... OK * checking whether package 'LMGene' can be installed ... OK * checking package directory ... OK * checking for portable file names ... OK * checking DESCRIPTION meta-information ... OK * checking top-level files ... OK * checking index information ... OK * checking package subdirectories ... OK * checking R files for syntax errors ... OK * checking R files for non-ASCII characters ... OK * checking whether the package can be loaded ... OK * checking whether the package can be loaded with stated dependencies ... OK * checking S3 generic/method consistency ... OK * checking replacement functions ... OK * checking foreign function calls ... OK * checking R code for possible problems ... OK * checking Rd files ... OK * checking Rd cross-references ... OK * checking for missing documentation entries ... OK * checking for code/documentation mismatches ... OK * checking Rd \usage sections ... OK * creating LMGene-Ex.R ... OK * checking examples ... OK * checking package vignettes in 'inst/doc' ... OK * creating LMGene-manual.tex ... OK * checking LMGene-manual.tex ... OK
LMGene.Rcheck/00install.out:
installing R.css in D:/biocbld/1.9d/Rpacks/LMGene.Rcheck
---------- Making package LMGene ------------
adding build stamp to DESCRIPTION
installing R files
installing inst files
installing data files
installing man source files
installing indices
not zipping data
installing help
>>> Building/Updating help pages for package 'LMGene'
Formats: text html latex example chm
LMGene text html latex example chm
Smpd text html latex example chm
Smpd0 text html latex example chm
arrplot1 text html latex example chm
arrplotd text html latex example chm
arrplote text html latex example chm
beams text html latex example chm
dplot text html latex example chm
dplote text html latex example chm
genediff text html latex example chm
glog text html latex example chm
jggrad2 text html latex example chm
jglog text html latex example chm
lnorm text html latex example chm
mlm2lm text html latex example chm
msa text html latex example chm
msecalc text html latex example chm
neweS text html latex example chm
norm text html latex example chm
pvadjust text html latex example chm
rgplot text html latex example chm
rowaov text html latex example chm
rowlist text html latex example chm
tranest text html latex example chm
tranest2 text html latex example chm
vlist text html latex example chm
Microsoft HTML Help Compiler 4.74.8702
Compiling d:\biocbld\1.9d\Rpacks\LMGene.Rcheck\00_pkg_src\LMGene\chm\LMGene.chm
Compile time: 0 minutes, 0 seconds
27 Topics
123 Local links
23 Internet links
1 Graphic
Created d:\biocbld\1.9d\Rpacks\LMGene.Rcheck\00_pkg_src\LMGene\chm\LMGene.chm, 35,181 bytes
Compression decreased file by 36,639 bytes.
adding MD5 sums
* DONE (LMGene)