Back to the "Multiple platform build/check report"
| Package 26/188 | OS | Arch | BUILD | CHECK | BUILD BIN |
BeadExplorer1.2.0Gareth Elvidge | Linux (SUSE 9.2) | x86_64 | OK | [ OK ] | |
| Linux (SUSE 9.2) | i686 | OK | OK | ||
| Solaris 2.9 | sparc | OK | OK | ||
| Linux (SUSE 10.0) | x86_64 | OK | OK | ||
| Windows Server 2003 | x86_64 | OK | OK | OK |
| Package: BeadExplorer |
| Version: 1.2.0 |
| Command: /loc/biocbuild/1.9d/R/bin/R CMD check BeadExplorer_1.2.0.tar.gz |
| RetCode: 0 |
| Time: 156.0 seconds |
| Status: OK |
| CheckDir: BeadExplorer.Rcheck |
| Warnings: 0 |
* checking for working latex ... OK * using log directory '/loc/biocbuild/1.9d/Rpacks/BeadExplorer.Rcheck' * using R version 2.4.0 (2006-10-03) * checking for file 'BeadExplorer/DESCRIPTION' ... OK * checking extension type ... Package * this is package 'BeadExplorer' version '1.2.0' * checking package dependencies ... OK * checking if this is a source package ... OK * checking whether package 'BeadExplorer' can be installed ... OK * checking package directory ... OK * checking for portable file names ... OK * checking for sufficient/correct file permissions ... OK * checking DESCRIPTION meta-information ... OK * checking top-level files ... OK * checking index information ... OK * checking package subdirectories ... OK * checking R files for syntax errors ... OK * checking R files for non-ASCII characters ... OK * checking whether the package can be loaded ... OK * checking whether the package can be loaded with stated dependencies ... OK * checking S3 generic/method consistency ... OK * checking replacement functions ... OK * checking foreign function calls ... OK * checking R code for possible problems ... OK * checking Rd files ... OK * checking Rd cross-references ... OK * checking for missing documentation entries ... OK * checking for code/documentation mismatches ... OK * checking Rd \usage sections ... OK * creating BeadExplorer-Ex.R ... OK * checking examples ... OK * creating BeadExplorer-manual.tex ... OK * checking BeadExplorer-manual.tex ... OK
BeadExplorer.Rcheck/00install.out:
* Installing *source* package 'BeadExplorer' ...
** R
** data
** inst
** preparing package for lazy loading
Loading required package: widgetTools
Loading Tcl/Tk interface ... done
Loading required package: affy
Loading required package: Biobase
Loading required package: tools
Welcome to Bioconductor
Vignettes contain introductory material. To view, type
'openVignette()' or start with 'help(Biobase)'. For details
on reading vignettes, see the openVignette help page.
Loading required package: affyio
Loading required package: R2HTML
Loading required package: tkWidgets
Loading required package: DynDoc
** help
>>> Building/Updating help pages for package 'BeadExplorer'
Formats: text html latex example
addManifest text html latex example
batchAnalysis text html latex example
beadAnalysis text html latex example
beadData-accessor text html latex
beadData-class text html latex example
beadQC-class text html latex example
boxplotArrays text html latex example
boxplotQC text html latex example
clusterplot text html latex example
cutoff text html latex example
detectionCalls text html latex example
dotplotArrays text html latex example
dotplotQC text html latex example
examplebeadData text html latex example
examplebeadQC text html latex example
extract text html latex example
filterData text html latex example
getAnnot text html latex example
getArrayStats text html latex example
getDet text html latex example
getExprs text html latex example
getID text html latex example
getQC text html latex example
htmloutput text html latex example
multiDensity text html latex example
multiecdf text html latex example
normalise text html latex example
pc text html latex example
plotSamples text html latex example
readBead text html latex example
readManifest text html latex example
readQC text html latex example
scatterPlot text html latex example
write.beadData text html latex example
writeQC text html latex example
** building package indices ...
* DONE (BeadExplorer)