Back to the "Multiple platform build/check report"
| Package 174/188 | Hostname | OS | Arch | BUILD | CHECK | BUILD BIN |
sscore1.6.0Richard KennedyLast Changed Date: 2006-10-03 12:16:03 -0700 Last Changed Rev: 20373 | lamb1 | Linux (SUSE 10.1) | x86_64 | ERROR | skipped | |
| wellington | Linux (SUSE 9.2) | i686 | OK | OK | ||
| churchill | Solaris 2.9 | sparc | [ ERROR ] | skipped | ||
| lemming | Windows Server 2003 | x86_64 | OK | OK | OK |
| Package: sscore |
| Version: 1.6.0 |
| Command: /loc/biocbuild/bbs-1.9/R/bin/R CMD build sscore |
| RetCode: 1 |
| Time: 12.2 seconds |
| Status: ERROR |
| PackageFile: None |
* checking for file 'sscore/DESCRIPTION' ... OK
* preparing 'sscore':
* checking DESCRIPTION meta-information ... OK
* checking whether 'INDEX' is up-to-date ... NO
* use '--force' to overwrite the existing 'INDEX'
* installing the package to re-build vignettes
* Installing *source* package 'sscore' ...
** R
** inst
** preparing package for lazy loading
Loading required package: affy
Loading required package: Biobase
Loading required package: tools
Welcome to Bioconductor
Vignettes contain introductory material. To view, type
'openVignette()' or start with 'help(Biobase)'. For details
on reading vignettes, see the openVignette help page.
Loading required package: affyio
Loading required package: affxparser
Warning in library(pkg, character.only = TRUE, logical = TRUE, lib.loc = lib.loc) :
there is no package called 'affxparser'
Error: package 'affxparser' could not be loaded
Execution halted
ERROR: lazy loading failed for package 'sscore'
** Removing '/tmp/Rinst1991080582/sscore'
ERROR
Installation failed.
Removing '/tmp/Rinst1991080582'