Back to the "Multiple platform build/check report"
| Package 173/188 | Hostname | OS | Arch | BUILD | CHECK | BUILD BIN |
spotSegmentation1.9.0Chris FraleyLast Changed Date: 2006-12-14 06:50:25 -0800 Last Changed Rev: 21489 | lamb1 | Linux (SUSE 10.1) | x86_64 | OK | OK | |
| wellington | Linux (SUSE 9.2) | i686 | OK | OK | ||
| churchill | Solaris 2.9 | sparc | OK | OK | ||
| lemming | Windows Server 2003 | x86_64 | OK | OK | [ OK ] |
| Package: spotSegmentation |
| Version: 1.9.0 |
| Command: D:\biocbld\bbs-1.9\R\bin\R.exe CMD INSTALL --build --library=spotSegmentation.instdir spotSegmentation_1.9.0.tar.gz |
| RetCode: 0 |
| Time: 7.0 seconds |
| Status: OK |
| PackageFile: spotSegmentation_1.9.0.zip |
installing R.css in D:/biocbld/bbs-1.9/meat/spotSegmentation.instdir
Using auto-selected zip options 'spotSegmentation-ZIPDATA=zip'
---------- Making package spotSegmentation ------------
adding build stamp to DESCRIPTION
installing R files
installing inst files
installing data files
installing man source files
installing indices
zipping data
installing help
>>> Building/Updating help pages for package 'spotSegmentation'
Formats: text html latex example chm
plot.spotseg text html latex example chm
plotBlockImage text html latex example chm
spotSegTest text html latex chm
spotgrid text html latex example chm
spotseg text html latex example chm
summary.spotseg text html latex example chm
Microsoft HTML Help Compiler 4.74.8702
Compiling d:\biocbld\bbs-1.9\meat\R.INSTALL\spotSegmentation\chm\spotSegmentation.chm
Compile time: 0 minutes, 0 seconds
7 Topics
19 Local links
1 Internet link
1 Graphic
Created d:\biocbld\bbs-1.9\meat\R.INSTALL\spotSegmentation\chm\spotSegmentation.chm, 24,031 bytes
Compression decreased file by 413 bytes.
adding MD5 sums
packaged installation of package 'spotSegmentation' as spotSegmentation_1.9.0.zip
* DONE (spotSegmentation)