Back to the "Multiple platform build/check report"
| Package 172/188 | Hostname | OS | Arch | BUILD | CHECK | BUILD BIN | 
splots1.2.0Oleg SklyarLast Changed Date: 2006-10-03 12:16:03 -0700 Last Changed Rev: 20373  | lamb1 | Linux (SUSE 10.1) | x86_64 | OK | OK | |
| wellington | Linux (SUSE 9.2) | i686 | OK | OK | ||
| churchill | Solaris 2.9 | sparc | OK | OK | ||
| lemming | Windows Server 2003 | x86_64 | OK | OK | [ OK ] | 
| Package: splots | 
| Version: 1.2.0 | 
| Command: D:\biocbld\bbs-1.9\R\bin\R.exe CMD INSTALL --build --library=splots.instdir splots_1.2.0.tar.gz | 
| RetCode: 0 | 
| Time: 8.0 seconds | 
| Status: OK | 
| PackageFile: splots_1.2.0.zip | 
installing R.css in D:/biocbld/bbs-1.9/meat/splots.instdir
Using auto-selected zip options ''
---------- Making package splots ------------
  adding build stamp to DESCRIPTION
  installing NAMESPACE file and metadata
  installing R files
  save image
Loading required package: grid
  installing inst files
  installing data files
  installing man source files
  installing indices
  not zipping data
  installing help
 >>> Building/Updating help pages for package 'splots'
     Formats: text html latex example chm 
  internals                         text    html    latex           chm
  plotScreen                        text    html    latex   example chm
Microsoft HTML Help Compiler 4.74.8702
Compiling d:\biocbld\bbs-1.9\meat\R.INSTALL\splots\chm\splots.chm
Compile time: 0 minutes, 0 seconds
3	Topics
3	Local links
0	Internet links
1	Graphic
Created d:\biocbld\bbs-1.9\meat\R.INSTALL\splots\chm\splots.chm, 17,933 bytes
Compression increased file by 8,172 bytes.
  adding MD5 sums
packaged installation of package 'splots' as splots_1.2.0.zip
* DONE (splots)