Back to the "Multiple platform build/check report"
| Package 133/188 | Hostname | OS | Arch | BUILD | CHECK | BUILD BIN | 
pickgene1.6.0Brian S. YandellLast Changed Date: 2006-10-03 12:16:03 -0700 Last Changed Rev: 20373  | lamb1 | Linux (SUSE 10.1) | x86_64 | OK | [ OK ] | |
| wellington | Linux (SUSE 9.2) | i686 | OK | OK | ||
| churchill | Solaris 2.9 | sparc | OK | OK | ||
| lemming | Windows Server 2003 | x86_64 | OK | OK | OK | 
| Package: pickgene | 
| Version: 1.6.0 | 
| Command: /home/biocbuild/bbs-1.9/R/bin/R CMD check pickgene_1.6.0.tar.gz | 
| RetCode: 0 | 
| Time: 14.5 seconds | 
| Status: OK | 
| CheckDir: pickgene.Rcheck | 
| Warnings: 0 | 
* checking for working latex ... OK * using log directory '/home/biocbuild/bbs-1.9/meat/pickgene.Rcheck' * using R version 2.4.1 (2006-12-18) * checking for file 'pickgene/DESCRIPTION' ... OK * this is package 'pickgene' version '1.6.0' * checking package dependencies ... OK * checking if this is a source package ... OK * checking whether package 'pickgene' can be installed ... OK * checking package directory ... OK * checking for portable file names ... OK * checking for sufficient/correct file permissions ... OK * checking DESCRIPTION meta-information ... OK * checking top-level files ... OK * checking index information ... OK * checking package subdirectories ... OK * checking R files for syntax errors ... OK * checking R files for non-ASCII characters ... OK * checking whether the package can be loaded ... OK * checking whether the package can be loaded with stated dependencies ... OK * checking S3 generic/method consistency ... OK * checking replacement functions ... OK * checking foreign function calls ... OK * checking R code for possible problems ... OK * checking Rd files ... OK * checking Rd cross-references ... OK * checking for missing documentation entries ... OK * checking for code/documentation mismatches ... OK * checking Rd \usage sections ... OK * creating pickgene-Ex.R ... OK * checking examples ... OK * checking package vignettes in 'inst/doc' ... OK * creating pickgene-manual.tex ... OK * checking pickgene-manual.tex ... OK
pickgene.Rcheck/00install.out:
* Installing *source* package 'pickgene' ...
** R
** inst
** preparing package for lazy loading
Loading required package: MASS
** help
 >>> Building/Updating help pages for package 'pickgene'
     Formats: text html latex example 
  Simulation.pickgene               text    html    latex   example
  em.ggb                            text    html    latex   example
  model.pickgene                    text    html    latex   example
  oddsplot                          text    html    latex   example
  pickgene-internal                 text    html    latex
  pickgene                          text    html    latex   example
  robustscale                       text    html    latex   example
** building package indices ...
* DONE (pickgene)