Back to the "Multiple platform build/check report"
| Package 131/188 | Hostname | OS | Arch | BUILD | CHECK | BUILD BIN | 
pdmclass1.6.0James W. MacDonaldLast Changed Date: 2006-10-03 12:16:03 -0700 Last Changed Rev: 20373  | lamb1 | Linux (SUSE 10.1) | x86_64 | OK | OK | |
| wellington | Linux (SUSE 9.2) | i686 | OK | OK | ||
| churchill | Solaris 2.9 | sparc | OK | OK | ||
| lemming | Windows Server 2003 | x86_64 | OK | OK | [ OK ] | 
| Package: pdmclass | 
| Version: 1.6.0 | 
| Command: D:\biocbld\bbs-1.9\R\bin\R.exe CMD INSTALL --build --library=pdmclass.instdir pdmclass_1.6.0.tar.gz | 
| RetCode: 0 | 
| Time: 7.0 seconds | 
| Status: OK | 
| PackageFile: pdmclass_1.6.0.zip | 
installing R.css in D:/biocbld/bbs-1.9/meat/pdmclass.instdir
Using auto-selected zip options ''
---------- Making package pdmclass ------------
  adding build stamp to DESCRIPTION
  installing NAMESPACE file and metadata
  installing R files
  installing inst files
  installing man source files
  installing indices
  installing help
 >>> Building/Updating help pages for package 'pdmclass'
     Formats: text html latex example chm 
  my.svd                            text    html    latex           chm
  pdmClass                          text    html    latex   example chm
  pdmClass.cv                       text    html    latex   example chm
  pdmGenes                          text    html    latex   example chm
  pls1c                             text    html    latex           chm
  predict.pls                       text    html    latex   example chm
  svdpls1c                          text    html    latex           chm
  svdr                              text    html    latex           chm
Microsoft HTML Help Compiler 4.74.8702
Compiling d:\biocbld\bbs-1.9\meat\R.INSTALL\pdmclass\chm\pdmclass.chm
Compile time: 0 minutes, 0 seconds
9	Topics
13	Local links
0	Internet links
1	Graphic
Created d:\biocbld\bbs-1.9\meat\R.INSTALL\pdmclass\chm\pdmclass.chm, 27,407 bytes
Compression decreased file by 4,621 bytes.
  adding MD5 sums
packaged installation of package 'pdmclass' as pdmclass_1.6.0.zip
* DONE (pdmclass)