Back to the "Multiple platform build/check report"
| Package 126/188 | Hostname | OS | Arch | BUILD | CHECK | BUILD BIN | 
pamr1.32.0Rob TIbshiraniLast Changed Date: 2006-10-03 12:16:03 -0700 Last Changed Rev: 20373  | lamb1 | Linux (SUSE 10.1) | x86_64 | [ OK ] | OK | |
| wellington | Linux (SUSE 9.2) | i686 | OK | OK | ||
| churchill | Solaris 2.9 | sparc | OK | OK | ||
| lemming | Windows Server 2003 | x86_64 | OK | OK | OK | 
| Package: pamr | 
| Version: 1.32.0 | 
| Command: /home/biocbuild/bbs-1.9/R/bin/R CMD build pamr | 
| RetCode: 0 | 
| Time: 2.5 seconds | 
| Status: OK | 
| PackageFile: pamr_1.32.0.tar.gz | 
* checking for file 'pamr/DESCRIPTION' ... OK * preparing 'pamr': * checking DESCRIPTION meta-information ... OK * cleaning src * removing junk files * excluding invalid files from 'pamr' Subdirectory 'man' contains invalid file names: internal.names * checking for LF line-endings in source files * checking for empty or unneeded directories * building 'pamr_1.32.0.tar.gz'