Back to the "Multiple platform build/check report"
| Package 99/188 | Hostname | OS | Arch | BUILD | CHECK | BUILD BIN | 
maCorrPlot1.4.0Alexander PlonerLast Changed Date: 2006-10-03 12:16:03 -0700 Last Changed Rev: 20373  | lamb1 | Linux (SUSE 10.1) | x86_64 | OK | OK | |
| wellington | Linux (SUSE 9.2) | i686 | OK | OK | ||
| churchill | Solaris 2.9 | sparc | OK | OK | ||
| lemming | Windows Server 2003 | x86_64 | OK | OK | [ OK ] | 
| Package: maCorrPlot | 
| Version: 1.4.0 | 
| Command: D:\biocbld\bbs-1.9\R\bin\R.exe CMD INSTALL --build --library=maCorrPlot.instdir maCorrPlot_1.4.0.tar.gz | 
| RetCode: 0 | 
| Time: 8.0 seconds | 
| Status: OK | 
| PackageFile: maCorrPlot_1.4.0.zip | 
installing R.css in D:/biocbld/bbs-1.9/meat/maCorrPlot.instdir
Using auto-selected zip options 'maCorrPlot-ZIPDATA=zip'
---------- Making package maCorrPlot ------------
  adding build stamp to DESCRIPTION
  installing R files
  installing inst files
  installing data files
  installing man source files
  installing indices
  zipping data
  installing help
 >>> Building/Updating help pages for package 'maCorrPlot'
     Formats: text html latex example chm 
  CorrSample                        text    html    latex   example chm
  CutCI                             text    html    latex   example chm
  oligodata                         text    html    latex   example chm
  plot.corr.sample                  text    html    latex   example chm
Microsoft HTML Help Compiler 4.74.8702
Compiling d:\biocbld\bbs-1.9\meat\R.INSTALL\maCorrPlot\chm\maCorrPlot.chm
Compile time: 0 minutes, 0 seconds
5	Topics
22	Local links
2	Internet links
1	Graphic
Created d:\biocbld\bbs-1.9\meat\R.INSTALL\maCorrPlot\chm\maCorrPlot.chm, 27,751 bytes
Compression decreased file by 1,260 bytes.
  adding MD5 sums
packaged installation of package 'maCorrPlot' as maCorrPlot_1.4.0.zip
* DONE (maCorrPlot)