Back to the "Multiple platform build/check report"
| Package 91/188 | Hostname | OS | Arch | BUILD | CHECK | BUILD BIN | 
lapmix1.0.0Yann RuffieuxLast Changed Date: 2006-10-03 12:16:03 -0700 Last Changed Rev: 20373  | lamb1 | Linux (SUSE 10.1) | x86_64 | OK | OK | |
| wellington | Linux (SUSE 9.2) | i686 | OK | OK | ||
| churchill | Solaris 2.9 | sparc | OK | OK | ||
| lemming | Windows Server 2003 | x86_64 | [ OK ] | OK | OK | 
| Package: lapmix | 
| Version: 1.0.0 | 
| Command: D:\biocbld\bbs-1.9\R\bin\R.exe CMD build lapmix | 
| RetCode: 0 | 
| Time: 14.5 seconds | 
| Status: OK | 
| PackageFile: lapmix_1.0.0.tar.gz | 
* checking for file 'lapmix/DESCRIPTION' ... OK
* preparing 'lapmix':
* checking DESCRIPTION meta-information ... OK
* checking whether 'INDEX' is up-to-date ... NO
* use '--force' to overwrite the existing 'INDEX'
* installing the package to re-build vignettes
installing R.css in D:/biocbld/bbs-1.9/tmpdir/Rinst245635073
---------- Making package lapmix ------------
  adding build stamp to DESCRIPTION
  installing R files
  installing inst files
  installing man source files
  installing indices
  installing help
 >>> Building/Updating help pages for package 'lapmix'
     Formats: text html latex example chm 
  lap.volcanoplot                   text    html    latex   example chm
  lapmix-internal                   text    html    latex           chm
  lapmix.Fit                        text    html    latex   example chm
  laptopTable                       text    html    latex   example chm
Microsoft HTML Help Compiler 4.74.8702
Compiling d:\biocbld\bbs-1.9\meat\lapmix\chm\lapmix.chm
Compile time: 0 minutes, 0 seconds
5	Topics
7	Local links
0	Internet links
1	Graphic
Created d:\biocbld\bbs-1.9\meat\lapmix\chm\lapmix.chm, 21,897 bytes
Compression increased file by 4,459 bytes.
  adding MD5 sums
* DONE (lapmix)
* creating vignettes ... OK
* removing junk files
* checking for LF line-endings in source files
* checking for empty or unneeded directories
* building 'lapmix_1.0.0.tar.gz'