Back to the "Multiple platform build/check report"
| Package 76/188 | Hostname | OS | Arch | BUILD | CHECK | BUILD BIN | 
gpls1.6.0Biocore TeamLast Changed Date: 2006-10-03 12:16:03 -0700 Last Changed Rev: 20373  | lamb1 | Linux (SUSE 10.1) | x86_64 | OK | OK | |
| wellington | Linux (SUSE 9.2) | i686 | OK | OK | ||
| churchill | Solaris 2.9 | sparc | OK | OK | ||
| lemming | Windows Server 2003 | x86_64 | OK | OK | [ OK ] | 
| Package: gpls | 
| Version: 1.6.0 | 
| Command: D:\biocbld\bbs-1.9\R\bin\R.exe CMD INSTALL --build --library=gpls.instdir gpls_1.6.0.tar.gz | 
| RetCode: 0 | 
| Time: 8.0 seconds | 
| Status: OK | 
| PackageFile: gpls_1.6.0.zip | 
installing R.css in D:/biocbld/bbs-1.9/meat/gpls.instdir
Using auto-selected zip options ''
---------- Making package gpls ------------
  adding build stamp to DESCRIPTION
  installing NAMESPACE file and metadata
  installing R files
  installing inst files
  installing man source files
  installing indices
  installing help
 >>> Building/Updating help pages for package 'gpls'
     Formats: text html latex example chm 
  glpls1a                           text    html    latex   example chm
  glpls1a.cv.error                  text    html    latex   example chm
  glpls1a.logit.all                 text    html    latex   example chm
  glpls1a.mlogit                    text    html    latex   example chm
  glpls1a.mlogit.cv.error           text    html    latex   example chm
  glpls1a.train.test.error          text    html    latex   example chm
  gpls                              text    html    latex   example chm
  predict.gpls                      text    html    latex   example chm
Microsoft HTML Help Compiler 4.74.8702
Compiling d:\biocbld\bbs-1.9\meat\R.INSTALL\gpls\chm\gpls.chm
Compile time: 0 minutes, 0 seconds
9	Topics
51	Local links
0	Internet links
1	Graphic
Created d:\biocbld\bbs-1.9\meat\R.INSTALL\gpls\chm\gpls.chm, 25,441 bytes
Compression decreased file by 12,367 bytes.
  adding MD5 sums
packaged installation of package 'gpls' as gpls_1.6.0.zip
* DONE (gpls)