Back to the "Multiple platform build/check report"
| Package 56/188 | Hostname | OS | Arch | BUILD | CHECK | BUILD BIN | 
fdrame1.6.0Effi KenigsbergLast Changed Date: 2006-10-03 12:16:03 -0700 Last Changed Rev: 20373  | lamb1 | Linux (SUSE 10.1) | x86_64 | [ OK ] | OK | |
| wellington | Linux (SUSE 9.2) | i686 | OK | OK | ||
| churchill | Solaris 2.9 | sparc | OK | OK | ||
| lemming | Windows Server 2003 | x86_64 | OK | OK | OK | 
| Package: fdrame | 
| Version: 1.6.0 | 
| Command: /home/biocbuild/bbs-1.9/R/bin/R CMD build fdrame | 
| RetCode: 0 | 
| Time: 3.5 seconds | 
| Status: OK | 
| PackageFile: fdrame_1.6.0.tar.gz | 
* checking for file 'fdrame/DESCRIPTION' ... OK
* preparing 'fdrame':
* checking DESCRIPTION meta-information ... OK
* cleaning src
* installing the package to re-build vignettes
* Installing *source* package 'fdrame' ...
** libs
gcc -std=gnu99 -I/home/biocbuild/bbs-1.9/R/include -I/home/biocbuild/bbs-1.9/R/include  -I/usr/local/include    -fpic  -g -O2 -Wall -c fdr.c -o fdr.o
gcc -std=gnu99 -shared -L/usr/local/lib64 -o fdrame.so fdr.o   
** R
** data
** inst
** preparing package for lazy loading
** help
 >>> Building/Updating help pages for package 'fdrame'
     Formats: text html latex example 
  design                            text    html    latex   example
  exp.arr                           text    html    latex   example
  fdr-internal                      text    html    latex
  fdrgui                            text    html    latex   example
  fdrma                             text    html    latex   example
** building package indices ...
* DONE (fdrame)
* creating vignettes ... OK
* cleaning src
* removing junk files
* checking for LF line-endings in source files
* checking for empty or unneeded directories
WARNING: Removing directory 'fdrame/html' which should only occur in an
  installed package
* building 'fdrame_1.6.0.tar.gz'