Back to the "Multiple platform build/check report"
| Package 55/188 | Hostname | OS | Arch | BUILD | CHECK | BUILD BIN | 
factDesign1.8.0Denise ScholtensLast Changed Date: 2006-10-03 12:16:03 -0700 Last Changed Rev: 20373  | lamb1 | Linux (SUSE 10.1) | x86_64 | OK | OK | |
| wellington | Linux (SUSE 9.2) | i686 | OK | OK | ||
| churchill | Solaris 2.9 | sparc | OK | OK | ||
| lemming | Windows Server 2003 | x86_64 | OK | OK | [ OK ] | 
| Package: factDesign | 
| Version: 1.8.0 | 
| Command: D:\biocbld\bbs-1.9\R\bin\R.exe CMD INSTALL --build --library=factDesign.instdir factDesign_1.8.0.tar.gz | 
| RetCode: 0 | 
| Time: 7.0 seconds | 
| Status: OK | 
| PackageFile: factDesign_1.8.0.zip | 
installing R.css in D:/biocbld/bbs-1.9/meat/factDesign.instdir
Using auto-selected zip options ''
---------- Making package factDesign ------------
  adding build stamp to DESCRIPTION
  installing R files
  installing inst files
  installing data files
  installing man source files
  installing indices
  not zipping data
  installing help
 >>> Building/Updating help pages for package 'factDesign'
     Formats: text html latex example chm 
  contrasts                         text    html    latex   example chm
  estrogen                          text    html    latex   example chm
  findFC                            text    html    latex   example chm
  kRepsOverA                        text    html    latex   example chm
  outliers                          text    html    latex   example chm
Microsoft HTML Help Compiler 4.74.8702
Compiling d:\biocbld\bbs-1.9\meat\R.INSTALL\factDesign\chm\factDesign.chm
Compile time: 0 minutes, 0 seconds
6	Topics
14	Local links
0	Internet links
1	Graphic
Created d:\biocbld\bbs-1.9\meat\R.INSTALL\factDesign\chm\factDesign.chm, 24,319 bytes
Compression increased file by 392 bytes.
  adding MD5 sums
packaged installation of package 'factDesign' as factDesign_1.8.0.zip
* DONE (factDesign)