Back to the "Multiple platform build/check report"
| Package 44/188 | Hostname | OS | Arch | BUILD | CHECK | BUILD BIN | 
copa1.2.0James W. MacDonaldLast Changed Date: 2006-10-03 12:16:03 -0700 Last Changed Rev: 20373  | lamb1 | Linux (SUSE 10.1) | x86_64 | OK | OK | |
| wellington | Linux (SUSE 9.2) | i686 | OK | OK | ||
| churchill | Solaris 2.9 | sparc | OK | OK | ||
| lemming | Windows Server 2003 | x86_64 | [ OK ] | OK | OK | 
| Package: copa | 
| Version: 1.2.0 | 
| Command: D:\biocbld\bbs-1.9\R\bin\R.exe CMD build copa | 
| RetCode: 0 | 
| Time: 145.4 seconds | 
| Status: OK | 
| PackageFile: copa_1.2.0.tar.gz | 
* checking for file 'copa/DESCRIPTION' ... OK
* preparing 'copa':
* checking DESCRIPTION meta-information ... OK
* cleaning src
* installing the package to re-build vignettes
installing R.css in D:/biocbld/bbs-1.9/tmpdir/Rinst322441613
---------- Making package copa ------------
  adding build stamp to DESCRIPTION
  installing NAMESPACE file and metadata
  making DLL ...
making copa.d from copa.c
gcc   -Id:/biocbld/bbs-1.9/R/include  -Wall -O2 -std=gnu99   -c copa.c -o copa.o
windres --include-dir d:/biocbld/bbs-1.9/R/include  -i copa_res.rc -o copa_res.o
gcc  -shared -s  -o copa.dll copa.def copa.o copa_res.o  -Ld:/biocbld/bbs-1.9/R/bin    -lR
  ... DLL made
  installing DLL
  installing R files
  installing inst files
  installing man source files
  installing indices
  installing help
 >>> Building/Updating help pages for package 'copa'
     Formats: text html latex example chm 
  copa                              text    html    latex   example chm
  copa.package                      text    html    latex           chm
  copaFilter                        text    html    latex           chm
  copaPerm                          text    html    latex           chm
  copaTable                         text    html    latex   example chm
  getans                            text    html    latex           chm
  pSum                              text    html    latex           chm
  perm.mat                          text    html    latex           chm
  plotCopa                          text    html    latex   example chm
  scatterPlotCopa                   text    html    latex   example chm
Microsoft HTML Help Compiler 4.74.8702
Compiling d:\biocbld\bbs-1.9\meat\copa\chm\copa.chm
Compile time: 0 minutes, 0 seconds
11	Topics
16	Local links
0	Internet links
1	Graphic
Created d:\biocbld\bbs-1.9\meat\copa\chm\copa.chm, 28,271 bytes
Compression decreased file by 6,276 bytes.
  preparing package copa for lazy loading
Loading required package: Biobase
Loading required package: tools
Welcome to Bioconductor
    Vignettes contain introductory material. To view, type
    'openVignette()' or start with 'help(Biobase)'. For details
    on reading vignettes, see the openVignette help page.
  adding MD5 sums
* DONE (copa)
* creating vignettes ... OK
* cleaning src
* removing junk files
* checking for LF line-endings in source files
* checking for empty or unneeded directories
* building 'copa_1.2.0.tar.gz'