Back to the "Multiple platform build/check report"
| Package 43/188 | Hostname | OS | Arch | BUILD | CHECK | BUILD BIN |
convert1.8.0Yee Hwa (Jean) YangLast Changed Date: 2006-10-03 12:16:03 -0700 Last Changed Rev: 20373 | lamb1 | Linux (SUSE 10.1) | x86_64 | OK | OK | |
| wellington | Linux (SUSE 9.2) | i686 | OK | OK | ||
| churchill | Solaris 2.9 | sparc | OK | OK | ||
| lemming | Windows Server 2003 | x86_64 | [ OK ] | OK | OK |
| Package: convert |
| Version: 1.8.0 |
| Command: D:\biocbld\bbs-1.9\R\bin\R.exe CMD build convert |
| RetCode: 0 |
| Time: 10.5 seconds |
| Status: OK |
| PackageFile: convert_1.8.0.tar.gz |
* checking for file 'convert/DESCRIPTION' ... OK
* preparing 'convert':
* checking DESCRIPTION meta-information ... OK
* installing the package to re-build vignettes
installing R.css in D:/biocbld/bbs-1.9/tmpdir/Rinst314430419
---------- Making package convert ------------
adding build stamp to DESCRIPTION
installing R files
installing inst files
installing man source files
installing indices
installing help
>>> Building/Updating help pages for package 'convert'
Formats: text html latex example chm
coerce text html latex example chm
Microsoft HTML Help Compiler 4.74.8702
Compiling d:\biocbld\bbs-1.9\meat\convert\chm\convert.chm
Compile time: 0 minutes, 0 seconds
2 Topics
9 Local links
0 Internet links
1 Graphic
Created d:\biocbld\bbs-1.9\meat\convert\chm\convert.chm, 17,016 bytes
Compression increased file by 5,939 bytes.
adding MD5 sums
* DONE (convert)
* creating vignettes ... OK
* removing junk files
* checking for LF line-endings in source files
* checking for empty or unneeded directories
* building 'convert_1.8.0.tar.gz'