Back to the "Multiple platform build/check report"
| Package 38/188 | Hostname | OS | Arch | BUILD | CHECK | BUILD BIN | 
cghMCR1.4.0J. ZhangLast Changed Date: 2006-10-03 12:16:03 -0700 Last Changed Rev: 20373  | lamb1 | Linux (SUSE 10.1) | x86_64 | OK | OK | |
| wellington | Linux (SUSE 9.2) | i686 | OK | OK | ||
| churchill | Solaris 2.9 | sparc | OK | OK | ||
| lemming | Windows Server 2003 | x86_64 | [ OK ] | OK | OK | 
| Package: cghMCR | 
| Version: 1.4.0 | 
| Command: D:\biocbld\bbs-1.9\R\bin\R.exe CMD build cghMCR | 
| RetCode: 0 | 
| Time: 26.5 seconds | 
| Status: OK | 
| PackageFile: cghMCR_1.4.0.tar.gz | 
* checking for file 'cghMCR/DESCRIPTION' ... OK
* preparing 'cghMCR':
* checking DESCRIPTION meta-information ... OK
* installing the package to re-build vignettes
installing R.css in D:/biocbld/bbs-1.9/tmpdir/Rinst480882864
---------- Making package cghMCR ------------
  adding build stamp to DESCRIPTION
  installing NAMESPACE file and metadata
  installing R files
  save image
Loading required package: DNAcopy
Loading required package: marray
Loading required package: limma
Loading required package: arrayQuality
Loading required package: convert
Loading required package: Biobase
Loading required package: tools
Welcome to Bioconductor
    Vignettes contain introductory material. To view, type
    'openVignette()' or start with 'help(Biobase)'. For details
    on reading vignettes, see the openVignette help page.
Loading required package: hexbin
Loading required package: grid
Loading required package: lattice
Loading required package: colorspace
Loading required package: gridBase
Loading required package: RColorBrewer
Creating a new generic function for "print" in "cghMCR"
  installing inst files
  installing data files
  installing man source files
  installing indices
  not zipping data
  installing help
 >>> Building/Updating help pages for package 'cghMCR'
     Formats: text html latex example chm 
  cghMCR-class                      text    html    latex   example chm
  cghMCR                            text    html    latex   example chm
  mergeMCRProbes                    text    html    latex   example chm
  plot.DNAcopy                      text    html    latex   example chm
Microsoft HTML Help Compiler 4.74.8702
Compiling d:\biocbld\bbs-1.9\meat\cghMCR\chm\cghMCR.chm
Compile time: 0 minutes, 0 seconds
5	Topics
27	Local links
0	Internet links
1	Graphic
Created d:\biocbld\bbs-1.9\meat\cghMCR\chm\cghMCR.chm, 22,019 bytes
Compression increased file by 500 bytes.
  adding MD5 sums
* DONE (cghMCR)
* creating vignettes ... OK
* removing junk files
* checking for LF line-endings in source files
* checking for empty or unneeded directories
* building 'cghMCR_1.4.0.tar.gz'