Back to the "Multiple platform build/check report"
| Package 11/188 | Hostname | OS | Arch | BUILD | CHECK | BUILD BIN | 
affypdnn1.8.1LaurentLast Changed Date: 2006-12-02 00:51:55 -0800 Last Changed Rev: 21332  | lamb1 | Linux (SUSE 10.1) | x86_64 | OK | OK | |
| wellington | Linux (SUSE 9.2) | i686 | OK | OK | ||
| churchill | Solaris 2.9 | sparc | OK | OK | ||
| lemming | Windows Server 2003 | x86_64 | OK | OK | [ OK ] | 
| Package: affypdnn | 
| Version: 1.8.1 | 
| Command: D:\biocbld\bbs-1.9\R\bin\R.exe CMD INSTALL --build --library=affypdnn.instdir affypdnn_1.8.1.tar.gz | 
| RetCode: 0 | 
| Time: 34.2 seconds | 
| Status: OK | 
| PackageFile: affypdnn_1.8.1.zip | 
installing R.css in D:/biocbld/bbs-1.9/meat/affypdnn.instdir
Using auto-selected zip options 'affypdnn-ZIPDATA=zip'
---------- Making package affypdnn ------------
  adding build stamp to DESCRIPTION
  installing R files
  installing inst files
  installing data files
  installing man source files
  installing indices
  zipping data
  installing help
 >>> Building/Updating help pages for package 'affypdnn'
     Formats: text html latex example chm 
  chiptype.pdnn.params              text    html    latex   example chm
  expressopdnn                      text    html    latex   example chm
  find.params.pdnn                  text    html    latex   example chm
  generateExprVal.method.pdnn       text    html    latex   example chm
  matplotProbesPDNN                 text    html    latex   example chm
  pdnn.params.chiptype              text    html    latex   example chm
  transform.ProbeSet                text    html    latex   example chm
Microsoft HTML Help Compiler 4.74.8702
Compiling d:\biocbld\bbs-1.9\meat\R.INSTALL\affypdnn\chm\affypdnn.chm
Compile time: 0 minutes, 0 seconds
8	Topics
31	Local links
0	Internet links
1	Graphic
Created d:\biocbld\bbs-1.9\meat\R.INSTALL\affypdnn\chm\affypdnn.chm, 27,713 bytes
Compression decreased file by 7,630 bytes.
  preparing package affypdnn for lazy loading
Loading required package: affy
Loading required package: Biobase
Loading required package: tools
Welcome to Bioconductor
    Vignettes contain introductory material. To view, type
    'openVignette()' or start with 'help(Biobase)'. For details
    on reading vignettes, see the openVignette help page.
Loading required package: affyio
Loading required package: affydata
Loading required package: hgu95av2probe
Loading required package: matchprobes
  adding MD5 sums
packaged installation of package 'affypdnn' as affypdnn_1.8.1.zip
* DONE (affypdnn)