Back to the "Multiple platform build/check report"
| Package 9/188 | Hostname | OS | Arch | BUILD | CHECK | BUILD BIN | 
affyio1.2.0Benjamin Milo BolstadLast Changed Date: 2006-10-03 12:16:03 -0700 Last Changed Rev: 20373  | lamb1 | Linux (SUSE 10.1) | x86_64 | OK | OK | |
| wellington | Linux (SUSE 9.2) | i686 | OK | OK | ||
| churchill | Solaris 2.9 | sparc | OK | OK | ||
| lemming | Windows Server 2003 | x86_64 | OK | OK | [ OK ] | 
| Package: affyio | 
| Version: 1.2.0 | 
| Command: D:\biocbld\bbs-1.9\R\bin\R.exe CMD INSTALL --build --library=affyio.instdir affyio_1.2.0.tar.gz | 
| RetCode: 0 | 
| Time: 11.0 seconds | 
| Status: OK | 
| PackageFile: affyio_1.2.0.zip | 
installing R.css in D:/biocbld/bbs-1.9/meat/affyio.instdir
Using auto-selected zip options ''
---------- Making package affyio ------------
   **********************************************
   WARNING: this package has a configure script
         It probably needs manual configuration
   **********************************************
  adding build stamp to DESCRIPTION
  installing NAMESPACE file and metadata
  making DLL ...
making read_abatch.d from read_abatch.c
making read_bpmap.d from read_bpmap.c
making read_cdf_xda.d from read_cdf_xda.c
making read_cdffile2.d from read_cdffile2.c
gcc  -ID:/biocbld/bbs-1.9/R/src/extra/zlib -DHAVE_ZLIB -ID:/biocbld/bbs-1.9/R/include  -Wall -O2 -std=gnu99   -c read_abatch.c -o read_abatch.o
gcc  -ID:/biocbld/bbs-1.9/R/src/extra/zlib -DHAVE_ZLIB -ID:/biocbld/bbs-1.9/R/include  -Wall -O2 -std=gnu99   -c read_bpmap.c -o read_bpmap.o
read_bpmap.c:50: warning: 'fread_be_int32' defined but not used
read_bpmap.c:92: warning: 'fread_be_int16' defined but not used
read_bpmap.c:111: warning: 'fread_be_uint16' defined but not used
gcc  -ID:/biocbld/bbs-1.9/R/src/extra/zlib -DHAVE_ZLIB -ID:/biocbld/bbs-1.9/R/include  -Wall -O2 -std=gnu99   -c read_cdf_xda.c -o read_cdf_xda.o
read_cdf_xda.c:263: warning: 'fread_int16' defined but not used
read_cdf_xda.c:301: warning: 'swap_float_4' defined but not used
read_cdf_xda.c:309: warning: 'fread_float32' defined but not used
gcc  -ID:/biocbld/bbs-1.9/R/src/extra/zlib -DHAVE_ZLIB -ID:/biocbld/bbs-1.9/R/include  -Wall -O2 -std=gnu99   -c read_cdffile2.c -o read_cdffile2.o
read_cdffile2.c: In function `read_cdf_Units':
read_cdffile2.c:721: warning: statement with no effect
read_cdffile2.c: In function `ReadtextCDFFileIntoRList':
read_cdffile2.c:1040: warning: 'QCUNITSProbeInfoX' might be used uninitialized in this function
read_cdffile2.c:1041: warning: 'QCUNITSProbeInfoY' might be used uninitialized in this function
read_cdffile2.c:1042: warning: 'QCUNITSProbeInfoPROBE' might be used uninitialized in this function
read_cdffile2.c:1043: warning: 'QCUNITSProbeInfoPL' might be used uninitialized in this function
read_cdffile2.c:1044: warning: 'QCUNITSProbeInfoATOM' might be used uninitialized in this function
read_cdffile2.c:1045: warning: 'QCUNITSProbeInfoINDEX' might be used uninitialized in this function
read_cdffile2.c:1046: warning: 'QCUNITSProbeInfoPMFLAG' might be used uninitialized in this function
read_cdffile2.c:1047: warning: 'QCUNITSProbeInfoBGFLAG' might be used uninitialized in this function
read_cdffile2.c: At top level:
read_cdffile2.c:363: warning: 'token_ends_with' defined but not used
windres --include-dir D:/biocbld/bbs-1.9/R/include  -i affyio_res.rc -o affyio_res.o
gcc  -shared -s  -o affyio.dll affyio.def read_abatch.o read_bpmap.o read_cdf_xda.o read_cdffile2.o affyio_res.o  -LD:/biocbld/bbs-1.9/R/bin -LD:/biocbld/bbs-1.9/R/src/extra/zlib -lz   -lR
  ... DLL made
  installing DLL
  installing R files
  save image
  installing man source files
  installing indices
  installing help
 >>> Building/Updating help pages for package 'affyio'
     Formats: text html latex example chm 
  check.cdf.type                    text    html    latex           chm
  read.cdffile.list                 text    html    latex           chm
  read.celfile                      text    html    latex           chm
  read.celfile.header               text    html    latex           chm
  read.celfile.probeintensity.matri text    html    latex           chm
Microsoft HTML Help Compiler 4.74.8702
Compiling d:\biocbld\bbs-1.9\meat\R.INSTALL\affyio\chm\affyio.chm
Compile time: 0 minutes, 0 seconds
6	Topics
11	Local links
0	Internet links
1	Graphic
Created d:\biocbld\bbs-1.9\meat\R.INSTALL\affyio\chm\affyio.chm, 19,437 bytes
Compression increased file by 2,389 bytes.
  adding MD5 sums
packaged installation of package 'affyio' as affyio_1.2.0.zip
* DONE (affyio)