Back to the "Multiple platform build/check report"
| Package 4/188 | Hostname | OS | Arch | BUILD | CHECK | BUILD BIN |
affxparser1.6.2Kasper Daniel HansenLast Changed Date: 2006-11-06 23:17:47 -0800 Last Changed Rev: 21022 | lamb1 | Linux (SUSE 10.1) | x86_64 | [ OK ] | ERROR | |
| wellington | Linux (SUSE 9.2) | i686 | OK | OK | ||
| churchill | Solaris 2.9 | sparc | OK | ERROR | ||
| lemming | Windows Server 2003 | x86_64 | OK | OK | OK |
| Package: affxparser |
| Version: 1.6.2 |
| Command: /home/biocbuild/bbs-1.9/R/bin/R CMD build affxparser |
| RetCode: 0 |
| Time: 1.5 seconds |
| Status: OK |
| PackageFile: affxparser_1.6.2.tar.gz |
* checking for file 'affxparser/DESCRIPTION' ... OK * preparing 'affxparser': * checking DESCRIPTION meta-information ... OK * cleaning src * removing junk files * checking for LF line-endings in source files * checking for empty or unneeded directories * building 'affxparser_1.6.2.tar.gz'